BEGIN:VCALENDAR
VERSION:2.0
PRODID:-//wp-events-plugin.com//7.2.3.1//EN
TZID:America/New_York
X-WR-TIMEZONE:America/New_York
BEGIN:VEVENT
UID:411@breatheatlanta.us
DTSTART;TZID=America/New_York:20240811T180000
DTEND;TZID=America/New_York:20240811T200000
DTSTAMP:20240802T193506Z
URL:https://breatheatlanta.us/events/body-fluent-lakeside-flow-yoga-sound-
 healing/
SUMMARY:Body Fluent LakeSide Flow - Yoga & Sound Healing
DESCRIPTION:Join us for a blissful lakeside experience with "Serenity by th
 e Lake: Body Fluent Flow and Sound Healing\," featuring Ogechi from Chi Di
 vinity Yoga and Gleydy from Echoes of Tranquility. Set against the tranqui
 l backdrop of Sope Creek Mountain Bike Trail's lake\, this event invites y
 ou to connect deeply with nature and your inner self through yoga and soun
 d healing.\n\nImmerse yourself in a fluid sequence of Hatha/Vinyasa yoga\,
  designed to enhance body awareness\, alignment\, and the spark of divinit
 y within. This in-person session will guide you through flowing movements\
 , mindful breathing\, and meditation\, all accompanied by healing vibratio
 ns that resonate with the peaceful surroundings.\n\nThis event is an ideal
  opportunity to elevate your yoga practice while rejuvenating your mind\, 
 body\, and soul in a stunning outdoor setting. Don't miss out on this chan
 ce to find tranquility and harmony by the lake.\n\nGET TICKETS\n
ATTACH;FMTTYPE=image/jpeg:https://breatheatlanta.us/wp-content/uploads/202
 4/08/Body-Fluent-LakeSide-Flow-Yoga-Sound-Healing.jpg
CATEGORIES:Mindfulness Events,Nature Events,Things To Do,Wellness
 Events,Yoga Events
LOCATION:Sope Creek Mountain Bike Trail\, 3726 Paper Mill Road Southeast Ma
 rietta\, Atlanta\, Georgia\, 30067\, GA\, United States
X-APPLE-STRUCTURED-LOCATION;VALUE=URI;X-ADDRESS=3726 Paper Mill Road Southe
 ast Marietta\, Atlanta\, Georgia\, 30067\, GA\, United States;X-APPLE-RADI
 US=100;X-TITLE=Sope Creek Mountain Bike Trail:geo:0,0
END:VEVENT
BEGIN:VTIMEZONE
TZID:America/New_York
X-LIC-LOCATION:America/New_York
BEGIN:DAYLIGHT
DTSTART:20240310T030000
TZOFFSETFROM:-0500
TZOFFSETTO:-0400
TZNAME:EDT
END:DAYLIGHT
END:VTIMEZONE
END:VCALENDAR