BEGIN:VCALENDAR
VERSION:2.0
PRODID:-//wp-events-plugin.com//7.2.3.1//EN
TZID:America/New_York
X-WR-TIMEZONE:America/New_York
BEGIN:VEVENT
UID:290@breatheatlanta.us
DTSTART;TZID=America/New_York:20240601T100000
DTEND;TZID=America/New_York:20240601T150000
DTSTAMP:20240525T132307Z
URL:https://breatheatlanta.us/events/bonsai-pot-workshop/
SUMMARY:Bonsai Pot Workshop
DESCRIPTION:Spend a day immersing yourself in creativity at the Bonsai Pot 
 Workshop\, hosted at Waldo Street Pottery in Atlanta's Grant Park.\nEvent 
 Details\nDate and Time: Join us on Saturday\, June 1\, 2024\, at 10:00 AM 
 for a hands-on experience in bonsai pot creation.\n\nLocation: The worksho
 p will be held at Waldo Street Pottery\, nestled in the charming Grant Par
 k area of Atlanta.\n\nExperience Level: No prior pottery experience is nec
 essary. This workshop welcomes all skill levels\, inviting everyone to bri
 ng their creativity and enthusiasm.\n\nWhat to Expect: Under expert guidan
 ce\, you'll learn the art of crafting and designing your very own unique b
 onsai container. This is a perfect opportunity to discover a new hobby\, e
 nhance your pottery skills\, and create a beautiful piece to take home.\nW
 hy Attend?\nCreative Exploration: Dive into the world of pottery and unlea
 sh your creativity in a supportive and inspiring environment.\n\nUnique Ma
 sterpiece: Craft a personalized bonsai pot\, making it a perfect addition 
 to your home or a thoughtful gift.\n\nSkill Development: Gain hands-on exp
 erience and learn new techniques from experienced instructors.\n\nCommunit
 y Engagement: Connect with fellow enthusiasts and enjoy a day of artistic 
 expression and learning.\nJoin the Workshop\nDon't miss this exciting oppo
 rtunity to learn a new skill and create a beautiful bonsai pot. Bring your
  creativity\, and let’s make something wonderful together at Waldo Stree
 t Pottery. See you there!\n\nGET TICKETS\n
ATTACH;FMTTYPE=image/jpeg:https://breatheatlanta.us/wp-content/uploads/202
 4/05/Bonsai-Pot-Workshop.jpg
CATEGORIES:Things To Do
LOCATION:Waldo Street Southeast\, Waldo Street Southeast Atlanta\, Atlanta\
 , Georgia\, 30312\, GA\, United States
X-APPLE-STRUCTURED-LOCATION;VALUE=URI;X-ADDRESS=Waldo Street Southeast Atla
 nta\, Atlanta\, Georgia\, 30312\, GA\, United States;X-APPLE-RADIUS=100;X-
 TITLE=Waldo Street Southeast:geo:0,0
END:VEVENT
BEGIN:VTIMEZONE
TZID:America/New_York
X-LIC-LOCATION:America/New_York
BEGIN:DAYLIGHT
DTSTART:20240310T030000
TZOFFSETFROM:-0500
TZOFFSETTO:-0400
TZNAME:EDT
END:DAYLIGHT
END:VTIMEZONE
END:VCALENDAR