BEGIN:VCALENDAR
VERSION:2.0
PRODID:-//wp-events-plugin.com//7.2.3.1//EN
TZID:America/New_York
X-WR-TIMEZONE:America/New_York
BEGIN:VEVENT
UID:615@breatheatlanta.us
DTSTART;TZID=America/New_York:20241110T070000
DTEND;TZID=America/New_York:20241110T120000
DTSTAMP:20241013T125404Z
URL:https://breatheatlanta.us/events/botox-training-atlanta-ga/
SUMMARY:Botox Training - Atlanta\, GA
DESCRIPTION:Empire Medical Training offers a comprehensive weekend program 
 in Atlanta\, GA\, providing instruction on Botox injections and other aest
 hetic procedures. The training includes workshops on Botox\, dermal filler
 s\, and facial aesthetics\, scheduled consecutively over a weekend for max
 imum convenience. These courses form the essential foundation for any aest
 hetic practice.\n\nTarget Audience This program is designed to address the
  educational needs of healthcare professionals in the Atlanta area\, parti
 cularly those involved in aesthetic care and procedures for patients.\n\nP
 rogram Overview The Botox training seminar in Atlanta combines theoretical
  instruction and practical\, hands-on workshops. The morning session is de
 dicated to didactic lectures\, while the afternoon is focused on hands-on 
 training with live patients. Participants will learn how to administer Bot
 ulinum Toxin for various cosmetic applications\, gaining both theoretical 
 knowledge and practical expertise. This training aims to enhance the abili
 ty of healthcare professionals to treat patients presenting with a range o
 f cosmetic concerns that may not have been covered in their prior medical 
 education.\n\nLearning Outcomes The primary goal is to ensure that learner
 s understand the correct standards of care and the safe administration of 
 Botulinum Toxin.\n\nEducational Objectives\n\n 	Competency: Participants w
 ill learn to perform Botox injections safely and effectively.\n 	Risk Mana
 gement: Attendees will be trained to minimize risks and manage complicatio
 ns related to aesthetic injections.\n 	Protocols: The course covers accept
 ed protocols for administering Botulinum Toxin for both cosmetic and medic
 al conditions such as orofacial pain.\n 	Guidelines and Procedures: Partic
 ipants will review guidelines for patient assessment\, charting\, consent 
 forms\, and corrective measures for adverse effects.\n 	Anatomy and Mechan
 ism of Action: The curriculum also covers facial anatomy\, patient expecta
 tions\, product characteristics\, and aftercare procedures.\n 	Patient Ide
 ntification: Attendees will learn to identify candidates for Botox\, under
 stand the benefits of the procedure\, and provide long-term care.\n\nFacul
 ty For information about the faculty\, please refer to the designated facu
 lty page.\n\nProgram Agenda - Atlanta\, GA The training day is split into 
 morning and afternoon sessions:\n\n 	7:45 am – 8:00 am: Registration\n 	
 8:00 am – 9:00 am: Speaker Introduction\, review of pre-requisite materi
 als\, and procedure overview. Q&amp\;A session.\n 	9:00 am – 12:00 pm: H
 ands-on training with live patients in small groups. Attendees will practi
 ce administering Botulinum Toxin Type-A FDA-approved products\, supervised
  by physicians.\n\nTraining will cover various treatment areas including:\
 n\n 	Glabellar Region\n 	Crow’s Feet (Lateral Canthal Rhytids)\n 	Forehe
 ad Lines (Forehead Traverse Rhytids)\n 	Specialized injections based on pa
 tient assessment and physician approval\n\nCOVID-19 safety measures aligne
 d with CDC guidelines are mandatory throughout the training. Patients or v
 olunteers participating in the hands-on sessions must agree to safety poli
 cies in advance.\n\nPre-requisite Instructional Materials To ensure partic
 ipants are fully prepared\, all attendees are required to view educational
  videos before the training. These cover procedures\, advanced injection t
 echniques\, and other relevant information. Access to a library of educati
 onal resources on Botulinum Toxin is provided\, along with a downloadable 
 color manual featuring:\n\n 	Patient Consultation: How to communicate expe
 cted results and mark facial zones for treatment.\n 	Product Information: 
 Mechanism of action\, proper dilution and reconstitution\, storage protoco
 ls\, and care standards for Botulinum Toxin Type A.\n 	Facial Anatomy: Zon
 es of adherence\, contraindications\, and how to address complications.\n 
 	Dosing and Protocols: Guidelines for treating various facial areas includ
 ing:\n\n 	Glabellar Complex\n 	Crow’s Feet\n 	Forehead Lines\n 	Medial a
 nd Lateral Brow Lift\n 	Gummy Smile and Dimpled Chin\n 	Marionette Lines\n
  	Platysma Banding\n 	Medical uses for Bruxism and Migraines\n 	Hyperhidro
 sis treatments for underarms and palms\n\n\n\nContinuing Medical Education
  (CME) Credits This course is accredited by the Accreditation Council for 
 Continuing Medical Education (ACCME)\, and Medical Education Resources (ME
 R) designates up to 8.0 AMA PRA Category 1 Credits™ for this live event.
  Physicians should claim credit based on their level of participation.\n\n
 Nursing Credit The program also provides 8.0 contact hours of continuing n
 ursing education\, accredited by the American Nurses Credentialing Center
 ’s Commission on Accreditation. The California Board of Registered Nursi
 ng also awards 8.0 contact hours for the program.\n\nFor more details\, co
 ntact us at 866-261-5164 or visit the Empire Medical Training website: htt
 ps://www.empiremedicaltraining.com/aesthetic-workshops/complete-botox-trai
 ning/.\n\nGET TICKETS\n
ATTACH;FMTTYPE=image/jpeg:https://breatheatlanta.us/wp-content/uploads/202
 4/10/Botox-Training.jpeg
CATEGORIES:Wellness Events
LOCATION:Hyatt Centric Buckhead Atlanta\, 3301 Lenox Parkway \, Atlanta\, G
 eorgia\, 30326\, GA\, United States
X-APPLE-STRUCTURED-LOCATION;VALUE=URI;X-ADDRESS=3301 Lenox Parkway \, Atlan
 ta\, Georgia\, 30326\, GA\, United States;X-APPLE-RADIUS=100;X-TITLE=Hyatt
  Centric Buckhead Atlanta:geo:0,0
END:VEVENT
BEGIN:VTIMEZONE
TZID:America/New_York
X-LIC-LOCATION:America/New_York
BEGIN:STANDARD
DTSTART:20241103T010000
TZOFFSETFROM:-0400
TZOFFSETTO:-0500
TZNAME:EST
END:STANDARD
END:VTIMEZONE
END:VCALENDAR