BEGIN:VCALENDAR
VERSION:2.0
PRODID:-//wp-events-plugin.com//7.2.3.1//EN
TZID:America/New_York
X-WR-TIMEZONE:America/New_York
BEGIN:VEVENT
UID:263@breatheatlanta.us
DTSTART;TZID=America/New_York:20240508T120000
DTEND;TZID=America/New_York:20240508T131500
DTSTAMP:20240423T173609Z
URL:https://breatheatlanta.us/events/brain-sleep-woes-with-cold-therapy/
SUMMARY:Chill & Thrive: Conquer Brain Fog\, Fatigue\, & Sleep woes with col
 d therapy!
DESCRIPTION:\nBeat Brain Fog\, Boost Energy &amp\; Sleep with Cold Plunging
 : Chill &amp\; Thrive Workshop!\nFeeling sluggish\, foggy\, and sleep-depr
 ived? Tired of endless wellness routines with minimal results? Chill &amp\
 ; Thrive offers a revolutionary solution: cold plunging!\nUnlock Peak Perf
 ormance:\nThis workshop unveils the transformative power of cold plunging\
 , a simple yet powerful tool to:\n\n\n 	Sharpen Your Mind: Ditch brain fog
  and experience enhanced mental clarity and focus.\n 	Energize Your Body: 
 Leave fatigue behind and discover a surge of vitality.\n 	Sleep Like a Dre
 am: Say goodbye to restless nights and embrace refreshing sleep.\n\nBeyond
  the Fad:\nForget fleeting trends! Cold plunging is an ancient practice ba
 cked by science and research. This workshop delves into its benefits for h
 olistic wellness:\n\n\n 	Empowering Knowledge: Gain a clear understanding 
 of how cold therapy promotes positive change.\n 	Holistic Benefits: Explor
 e how cold plunging enhances your health and well-being.\n 	Community Conn
 ection: Join a supportive group of women on your wellness journey.\n\nThis
  Workshop is for You if You Want:\n\n\n 	Mental Clarity: Boost your focus 
 and concentration\, ditching the brain fog.\n 	Boundless Energy: Feel revi
 talized and conquer fatigue with a natural energy boost.\n 	Restful Sleep:
  Transform your sleep patterns and wake up feeling refreshed.\n\n75 Minute
 s to Transformation:\nThis workshop is an investment in your well-being. I
 n just 75 minutes\, you'll discover:\n\n\n 	Strategies for Focus: Learn te
 chniques to eliminate brain fog and sharpen your mind.\n 	Energy-Boosting 
 Techniques: Discover how cold plunging unlocks your body's natural energy 
 reserves.\n 	Sleep Solutions: Gain practical tools to improve your sleep q
 uality and wake up feeling renewed.\n\nJoin the Chill &amp\; Thrive Commun
 ity:\nEmbrace the power of cold plunging and join a supportive community o
 f women. We'll celebrate your victories\, big and small\, as you embark on
  a path to optimal health!\nDon't Wait!\nSecure your spot today and start 
 reclaiming your energy with this super-efficient 75-minute virtual worksho
 p. Together\, let's embrace the chill and thrive like never before!\nLimit
 ed Spots Available!\n\n\n\nBOOK SPOTS\n
ATTACH;FMTTYPE=image/jpeg:https://breatheatlanta.us/wp-content/uploads/202
 4/04/https___cdn.evbuc_.com_images_733636169_1564946364223_1_original.jpeg
CATEGORIES:Wellness Events
END:VEVENT
BEGIN:VTIMEZONE
TZID:America/New_York
X-LIC-LOCATION:America/New_York
BEGIN:DAYLIGHT
DTSTART:20240310T030000
TZOFFSETFROM:-0500
TZOFFSETTO:-0400
TZNAME:EDT
END:DAYLIGHT
END:VTIMEZONE
END:VCALENDAR