BEGIN:VCALENDAR
VERSION:2.0
PRODID:-//wp-events-plugin.com//7.2.3.1//EN
TZID:America/New_York
X-WR-TIMEZONE:America/New_York
BEGIN:VEVENT
UID:50@breatheatlanta.us
DTSTART;TZID=America/New_York:20240329T083000
DTEND;TZID=America/New_York:20240329T123000
DTSTAMP:20240322T105415Z
URL:https://breatheatlanta.us/events/breath-as-medicine-harnessing-the-hea
 ling-power-of-breathwork-in-therapy/
SUMMARY:Breath as Medicine: Harnessing the Healing Power of Breathwork in T
 herapy
DESCRIPTION:\n\n\n\n\n\n\n\n\n\n\n\n\nA transformative journey with us as w
 e delve into the immersive realms of breathwork during our workshop. Desig
 ned to offer an in-depth exploration\, this event promises to unveil the p
 rofound potential of harnessing the power of breath within therapeutic pra
 ctice. Through an experiential and enlightening session\, participants wil
 l discover the intricate pathways through which breath can catalyze healin
 g\, self-discovery\, and profound transformation.  We navigate the intric
 ate landscape of breathwork\, unlocking its hidden treasures and embracing
  its capacity to facilitate profound shifts in emotional well-being and pe
 rsonal growth.\n\nEvent Information:\n\n 	Date and Time: Friday\, March 29
 \, 8:30 a.m. - 12:30 p.m. EDT.\n 	Location: Druid Pointe Office Building\,
  2751 Buford Highway Northeast Level 1\, Conference Room\, Atlanta\, GA 30
 324\, United States\n 	Ticket Price:\n\n 	General Admission: $100.00\n 	Fe
 es: $8.55\n 	Sales Tax: $8.41\n 	Total: $116.00\n\n\n\n&nbsp\;\n\nGET TICK
 ETS\n\nAbout this Event: "Breath as Medicine: Harnessing the Healing Power
  of Breath Work in Therapy" is an immersive workshop presented by breath c
 oach Lisa Derosby-Jones and psychotherapist Laura Silverman\, LCSW. This w
 orkshop explores the transformation potential of breath work in therapeuti
 c practice\, focusing on stress reduction\, anxiety alleviation\, emotiona
 l healing\, and self-awareness enhancement. Participants will engage in le
 ctures\, demonstrations\, and hands-on practice to deepen their understand
 ing of the mind-body connection and how breathwork can support clients on 
 their healing and self-discovery journey.\n\nWorkout Session Detail: This 
 event does not feature workout sessions but focuses on breath work techniq
 ues for therapeutic purposes.\n\nEssentials to Bring: Attendees may want t
 o bring a notebook and pen for taking notes during the workshop. Comfortab
 le clothing conducive to sitting and breathing exercises is recommended.\n
 \nParking Option: Details regarding parking options at the Druid Pointe Of
 fice Building are not provided. Attendees are advised to inquire about par
 king arrangements beforehand.\n\n\n\n\n\n\n\n\n\n\n\n\n\n\n\n\n\n\n\n\n\n\
 n\n\n\n\n
ATTACH;FMTTYPE=image/jpeg:https://breatheatlanta.us/wp-content/uploads/202
 4/03/https___cdn.evbuc_.com_images_698263959_557499898689_1_original.jpg
CATEGORIES:Featured Events,Wellness Events
LOCATION:Druid Pointe Office Building\, 2751 Buford Highway Northeast Level
  1\, Conference Room Atlanta\, GA 30324 United States\, GA\, United States
 \,  30324 \, GA \, United States
X-APPLE-STRUCTURED-LOCATION;VALUE=URI;X-ADDRESS=2751 Buford Highway Northea
 st Level 1\, Conference Room Atlanta\, GA 30324 United States\, GA\, Unite
 d States\,  30324 \, GA \, United States;X-APPLE-RADIUS=100;X-TITLE=Druid 
 Pointe Office Building:geo:0,0
END:VEVENT
BEGIN:VTIMEZONE
TZID:America/New_York
X-LIC-LOCATION:America/New_York
BEGIN:DAYLIGHT
DTSTART:20240310T030000
TZOFFSETFROM:-0500
TZOFFSETTO:-0400
TZNAME:EDT
END:DAYLIGHT
END:VTIMEZONE
END:VCALENDAR