BEGIN:VCALENDAR
VERSION:2.0
PRODID:-//wp-events-plugin.com//7.2.3.1//EN
TZID:America/New_York
X-WR-TIMEZONE:America/New_York
BEGIN:VEVENT
UID:164@breatheatlanta.us
DTSTART;TZID=America/New_York:20240504T103000
DTEND;TZID=America/New_York:20240504T113000
DTSTAMP:20240905T133248Z
URL:https://breatheatlanta.us/events/breath-to-body-vinyasa-yoga-with-eric
 a-50-off/
SUMMARY:Breath To Body (Vinyasa Yoga with Erica) *50% off*
DESCRIPTION:Embark on a journey to discover inner peace and graceful flow a
 t our exclusive Vinyasa Flow Yoga Class: "Breath To Body." Let go of stres
 s and tension as you immerse yourself in the serene rhythms of this transf
 ormative practice.\n\nEvent Information:\n\nEvent Name: Breath To Body (Vi
 nyasa Yoga with Erica) 50% off\n\nHost: The UNION Fit Hub\n\nDate and Time
 : Saturday\, May 4\, 10:30 AM - 11:30 AM EDT\n\nLocation: The Union Fit Hu
 b\, 828 Ralph McGill Boulevard Northeast #W4\, Atlanta\, GA 30306\, United
  States\n\nAbout this Event: Discover tranquility and grace in our exclusi
 ve Vinyasa Flow Yoga class: "Breath To Body." Immerse yourself in an hour 
 of invigorating practice\, where the union of breath and movement guides y
 ou towards inner peace and strength.\n\nTicket Price:\n\n1 x General Admis
 sion: $10.00\n\nSales Tax: $0.89\n\nTotal: $10.89\n\nGET TICKETS\n\nRefund
  Policy: Contact the organizer to request a refund\; Eventbrite's fee is n
 onrefundable\n\nWorkout Session Detail: During this Vinyasa yoga session\,
  you'll experience:\n\nImproved Flexibility: Engage in dynamic poses that 
 enhance muscle and joint flexibility\, promoting mobility and reducing inj
 ury risks.\n\nStress Reduction: Synchronize breath with movement to induce
  relaxation and alleviate stress\, fostering mental clarity and calmness.\
 n\nIncreased Strength: Flow through poses that build physical and mental s
 trength\, engaging various muscle groups for overall fitness.\n\nMind-Body
  Connection: Cultivate mindfulness by focusing on breath and movement\, en
 hancing self-awareness\, posture\, and balance.\n\nEssential for Participa
 nts:\n\nComfortable yoga attire\n\nYoga mat\n\nWater bottle\n\nPositive mi
 ndset\n\nParking Option: Parking facilities available at The Union Fit Hub
 .\n\nUnlock the transformative power of Vinyasa Flow Yoga and reserve your
  spot now. Join us on May 4th to rejuvenate your body and soul. Namaste.
ATTACH;FMTTYPE=image/jpeg:https://breatheatlanta.us/wp-content/uploads/202
 4/03/123456789.jpg
CATEGORIES:Wellness Events,Yoga Events
LOCATION:The Union Fit Hub\,   828 Ralph McGill Boulevard \, Northeast #w4 
 Atlanta\, \, United States\, 30306 \, GA \, United States
X-APPLE-STRUCTURED-LOCATION;VALUE=URI;X-ADDRESS=  828 Ralph McGill Boulevar
 d \, Northeast #w4 Atlanta\, \, United States\, 30306 \, GA \, United Stat
 es;X-APPLE-RADIUS=100;X-TITLE=The Union Fit Hub:geo:0,0
END:VEVENT
BEGIN:VTIMEZONE
TZID:America/New_York
X-LIC-LOCATION:America/New_York
BEGIN:DAYLIGHT
DTSTART:20240310T030000
TZOFFSETFROM:-0500
TZOFFSETTO:-0400
TZNAME:EDT
END:DAYLIGHT
END:VTIMEZONE
END:VCALENDAR