BEGIN:VCALENDAR
VERSION:2.0
PRODID:-//wp-events-plugin.com//7.2.3.1//EN
TZID:America/New_York
X-WR-TIMEZONE:America/New_York
BEGIN:VEVENT
UID:757@breatheatlanta.us
DTSTART;TZID=America/New_York:20250213T190000
DTEND;TZID=America/New_York:20250213T200000
DTSTAMP:20250201T125433Z
URL:https://breatheatlanta.us/events/breathe-stretch-connect-ignite/
SUMMARY:Breathe. Stretch. Connect. Ignite.
DESCRIPTION:Step into an intimate experience where movement meets passion. 
 The Partner Stretch &amp\; Connection Class is more than just flexibility 
 training—it’s an invitation to deepen your bond\, synchronize your bre
 ath\, and build intimacy through sensual\, flowing stretches.\n\nGuided by
  expert instructors\, couples will engage in slow\, intentional movements 
 designed to release tension\, enhance physical connection\, and create a s
 hared rhythm. This carefully curated session blends relaxation with intima
 cy\, allowing partners to explore trust\, balance\, and deepened awareness
  of each other's energy.\n\nAs the session winds down\, the ambiance conti
 nues with a touch of indulgence—sip on bubbly Prosecco and enjoy a selec
 tion of flirtatious bites\, keeping the chemistry alive long after the fin
 al stretch.\n\nAnd because unforgettable moments deserve to be captured\, 
 professional video clips of your experience will be sent directly to you w
 ithin a week\, preserving the magic of the night.\n\n✨ Come ready to bre
 athe\, stretch\, and ignite the spark. This is more than a class—it’s 
 an experience. ✨
ATTACH;FMTTYPE=image/jpeg:https://breatheatlanta.us/wp-content/uploads/202
 5/02/Breathe.-Stretch.-Seduce.jpeg
CATEGORIES:Wellness Events
LOCATION:Creatives Rental Space\, 1483 Chattahoochee Avenue Northwest #Suit
 e 110 \, Atlanta\, Georgia\, 30318\, GA\, United States
X-APPLE-STRUCTURED-LOCATION;VALUE=URI;X-ADDRESS=1483 Chattahoochee Avenue N
 orthwest #Suite 110 \, Atlanta\, Georgia\, 30318\, GA\, United States;X-AP
 PLE-RADIUS=100;X-TITLE=Creatives Rental Space:geo:0,0
END:VEVENT
BEGIN:VTIMEZONE
TZID:America/New_York
X-LIC-LOCATION:America/New_York
BEGIN:STANDARD
DTSTART:20241103T010000
TZOFFSETFROM:-0400
TZOFFSETTO:-0500
TZNAME:EST
END:STANDARD
END:VTIMEZONE
END:VCALENDAR