BEGIN:VCALENDAR
VERSION:2.0
PRODID:-//wp-events-plugin.com//7.2.3.1//EN
TZID:America/New_York
X-WR-TIMEZONE:America/New_York
BEGIN:VEVENT
UID:261@breatheatlanta.us
DTSTART;TZID=America/New_York:20240508T200000
DTEND;TZID=America/New_York:20240508T210000
DTSTAMP:20240423T081856Z
URL:https://breatheatlanta.us/events/breathwork-exploring-meditation/
SUMMARY:Breathwork. Exploring Meditation.
DESCRIPTION:\nUnlock Your Potential: Explore Breathwork Therapy\nReady to u
 nlock a deeper sense of well-being? Breathwork therapy offers a powerful t
 ool for self-discovery and healing.\nEmpowering Transformation:\nBreathwor
 k goes beyond simply breathing. It's a mindful practice that can significa
 ntly impact your:\n\n\n 	Self-Awareness: Gain a deeper understanding of yo
 ur inner landscape\, thoughts\, and emotions.\n 	Self-Healing Capacity: Di
 scover your innate ability to heal and revitalize yourself.\n 	Overall Wel
 l-being: Experience positive shifts in your mental\, physical\, and spirit
 ual health.\n\nSafe &amp\; Supportive Environment:\nWe provide a safe and 
 judgment-free space for you to explore the transformative potential of bre
 athwork. Feel free to express yourself openly and authentically.\nBenefits
  of Breathwork:\n\n\n 	Reduced Stress &amp\; Anxiety: Learn breathing tech
 niques that promote relaxation and emotional calm.\n 	Enhanced Focus &amp\
 ; Clarity: Improve your ability to concentrate and think clearly.\n 	Incre
 ased Energy Levels: Unlock your body's natural vitality and feel more ener
 gized.\n 	Emotional Release: Process and release pent-up emotions in a hea
 lthy way.\n 	Deeper Connection to Self: Connect with your inner wisdom and
  intuition.\n\nThis Journey Begins with a Breath:\nBreathwork is a powerfu
 l tool that can empower you to create positive change in your life. This i
 ntroductory session offers a safe and supportive environment to explore it
 s benefits:\n\n\n 	Gentle Introduction: Learn about the foundations of bre
 athwork theory and practice.\n 	Guided Breathing Exercises: Experience the
  transformative power of different breathing techniques.\n 	Space for Shar
 ing &amp\; Reflection: Connect with others and share your experience in a 
 supportive setting.\n\nAre you ready to embark on a journey of self-discov
 ery and unlock your full potential? Join us for an introductory breathwork
  session and begin your path towards a more empowered and fulfilling life!
 \n\n\n\nDONATE TO ATTEND\n
ATTACH;FMTTYPE=image/jpeg:https://breatheatlanta.us/wp-content/uploads/202
 4/04/https___cdn.evbuc_.com_images_740429379_756517409193_1_original.jpeg
CATEGORIES:Wellness Events
LOCATION:Energy Works ATL\, 1215 Hightower Trail Building D\, Suite 101 Atl
 anta\, GA 30350\, Atlanta\, GA\, 30350\, GA\, United States
X-APPLE-STRUCTURED-LOCATION;VALUE=URI;X-ADDRESS=1215 Hightower Trail Buildi
 ng D\, Suite 101 Atlanta\, GA 30350\, Atlanta\, GA\, 30350\, GA\, United S
 tates;X-APPLE-RADIUS=100;X-TITLE=Energy Works ATL:geo:0,0
END:VEVENT
BEGIN:VTIMEZONE
TZID:America/New_York
X-LIC-LOCATION:America/New_York
BEGIN:DAYLIGHT
DTSTART:20240310T030000
TZOFFSETFROM:-0500
TZOFFSETTO:-0400
TZNAME:EDT
END:DAYLIGHT
END:VTIMEZONE
END:VCALENDAR