BEGIN:VCALENDAR
VERSION:2.0
PRODID:-//wp-events-plugin.com//7.2.3.1//EN
TZID:America/New_York
X-WR-TIMEZONE:America/New_York
BEGIN:VEVENT
UID:437@breatheatlanta.us
DTSTART;TZID=America/New_York:20240906T190000
DTEND;TZID=America/New_York:20240906T203000
DTSTAMP:20240903T170025Z
URL:https://breatheatlanta.us/events/breathwork-for-massive-transformation
 /
SUMMARY:Breathwork for Massive Transformation
DESCRIPTION:Join Branton for a transformative 75-minute Circular-Conscious 
 Breathwork session\, renowned for delivering insights and breakthroughs th
 at many participants find more impactful than years of traditional therapy
 .\n\nIn this session\, breathwork unveils and addresses limiting thought p
 atterns\, facilitating the release of deeply held traumas stored at a cell
 ular level. By creating a space for introspection free from emotional enta
 nglement\, breathwork offers the clarity and renewal many seek.\n\nKey Ben
 efits of Breathwork:\n\n 	Stress Relief: Effectively alleviates accumulate
 d stress\, helping you achieve a state of calm and balance.\n 	Emotional S
 upport: Assists in managing symptoms of depression and anxiety\, providing
  a supportive tool for mental health.\n 	Trauma Release: Helps to uncover 
 and release repressed traumas and fears\, promoting emotional healing.\n 	
 Enhanced Self-Esteem: Fosters self-love\, boosts confidence\, and enhances
  overall self-esteem.\n\nExperience the profound impact of breathwork\, an
 d discover a powerful method for personal growth and emotional healing.\n\
 nGET TICKETS\n
ATTACH;FMTTYPE=image/jpeg:https://breatheatlanta.us/wp-content/uploads/202
 4/09/Breathwork-for-Massive-Transformation.webp
CATEGORIES:Mindfulness Events,Things To Do,Wellness Events
LOCATION:The Well of Roswell\, 900 Old Roswell Lakes Pkwy Suite #300\, Atla
 nta\, Georgia\, 30076\, GA\, United States
X-APPLE-STRUCTURED-LOCATION;VALUE=URI;X-ADDRESS=900 Old Roswell Lakes Pkwy 
 Suite #300\, Atlanta\, Georgia\, 30076\, GA\, United States;X-APPLE-RADIUS
 =100;X-TITLE=The Well of Roswell:geo:0,0
END:VEVENT
BEGIN:VTIMEZONE
TZID:America/New_York
X-LIC-LOCATION:America/New_York
BEGIN:DAYLIGHT
DTSTART:20240310T030000
TZOFFSETFROM:-0500
TZOFFSETTO:-0400
TZNAME:EDT
END:DAYLIGHT
END:VTIMEZONE
END:VCALENDAR