BEGIN:VCALENDAR
VERSION:2.0
PRODID:-//wp-events-plugin.com//7.2.3.1//EN
TZID:America/New_York
X-WR-TIMEZONE:America/New_York
BEGIN:VEVENT
UID:307@breatheatlanta.us
DTSTART;TZID=America/New_York:20240727T110000
DTEND;TZID=America/New_York:20240727T140000
DTSTAMP:20240626T183757Z
URL:https://breatheatlanta.us/events/business-bestie-meet-up-90s-rb-yoga-n
 etworking-event/
SUMMARY:Business Bestie Meet Up - 90s R&B Yoga Networking Event
DESCRIPTION:The Business Bestie Meet Up invites attendees to a distinctive 
 event that fuses the soulful vibes of 90s R&amp\;B music with a calming yo
 ga session. This unique experience aims to foster connections among like-m
 inded individuals while enjoying the nostalgic beats of favorite throwback
  tunes. The event emphasizes healing\, self-care\, and the creation of a s
 erene lifestyle. Participants will have the chance to unwind\, network\, a
 nd enjoy a memorable time.\nEvent Highlights\n\n 	Panel Discussions: A div
 erse panel of speakers will share their insights and experiences on self-c
 are and mental health. Entrepreneurs will learn practical strategies to ma
 nage the daily challenges they encounter.\n 	Yoga Session: The event begin
 s with a rejuvenating yoga session\, set to the soothing sounds of 90s R&a
 mp\;B. This session promotes physical well-being and mental relaxation.\n 
 	Interactive Networking Activities: Designed to facilitate connections\, t
 hese activities will help attendees build relationships and explore collab
 orative opportunities.\n 	Delicious Food: Participants can enjoy a selecti
 on of healthy and delicious food while networking with peers and exchangin
 g ideas.\n\nReasons to Attend\n\n 	Gain Insight: Entrepreneurs facing dail
 y challenges will benefit from valuable insights on managing mental health
  and self-care routines.\n 	Be Inspired: The panel discussions are curated
  to inspire\, educate\, and empower attendees to achieve their business go
 als while maintaining their well-being.\n 	Network: The event provides an 
 opportunity to build meaningful connections with professionals who underst
 and the unique challenges of entrepreneurship.\n\nThis event is a perfect 
 opportunity for entrepreneurs to invest in their well-being and connect wi
 th a supportive community. Register now to secure a spot and experience a 
 blend of relaxation\, inspiration\, and networking.\n\nGET TICKETS\n
ATTACH;FMTTYPE=image/jpeg:https://breatheatlanta.us/wp-content/uploads/202
 4/06/Business-Bestie-Meet-Up-90s-RB-Yoga-Networking-Event.jpg
CATEGORIES:Mindfulness Events,Wellness Events
LOCATION:Pink Poles Studio\, 1030 White Street Southwest Atlanta\, Atlanta\
 , Georgia\, 30310\, GA\, United States
X-APPLE-STRUCTURED-LOCATION;VALUE=URI;X-ADDRESS=1030 White Street Southwest
  Atlanta\, Atlanta\, Georgia\, 30310\, GA\, United States;X-APPLE-RADIUS=1
 00;X-TITLE=Pink Poles Studio:geo:0,0
END:VEVENT
BEGIN:VTIMEZONE
TZID:America/New_York
X-LIC-LOCATION:America/New_York
BEGIN:DAYLIGHT
DTSTART:20240310T030000
TZOFFSETFROM:-0500
TZOFFSETTO:-0400
TZNAME:EDT
END:DAYLIGHT
END:VTIMEZONE
END:VCALENDAR