BEGIN:VCALENDAR
VERSION:2.0
PRODID:-//wp-events-plugin.com//7.2.3.1//EN
TZID:America/New_York
X-WR-TIMEZONE:America/New_York
BEGIN:VEVENT
UID:749@breatheatlanta.us
DTSTART;TZID=America/New_York:20250214T190000
DTEND;TZID=America/New_York:20250214T213000
DTSTAMP:20250201T110405Z
URL:https://breatheatlanta.us/events/candlelight-yoga-connection-a-valenti
 nes-day-experience-at-the-chapel/
SUMMARY:Candlelight Yoga & Connection: A Valentine’s Day Experience at Th
 e Chapel
DESCRIPTION:Valentine’s Day takes on a luminous new meaning with an eveni
 ng of candlelit yoga and heartfelt connection at The Chapel on Sycamore. O
 n Friday\, February 14th\, guests are invited to immerse themselves in a s
 ensory-rich experience that blends movement\, mindfulness\, and romance wi
 thin the chapel’s breathtaking\, historic setting.\nA Yoga Experience Li
 ke No Other\nUnder the soft glow of candlelight and the stained glass refl
 ections that dance along the walls\, participants will be guided through a
 n enchanting yoga flow designed to soothe the mind and awaken the senses. 
 This ceremonial practice is more than just a class—it is an invitation t
 o turn inward\, quiet the distractions of daily life\, and embrace a momen
 t of deep presence.\n\nThe evening will be led by Sarah Dobson alongside L
 auren Dike\, a skilled somatic practitioner who will conclude the session 
 with a 15-minute somatic movement sequence. This final portion of the prac
 tice is specially curated to release tension\, promote relaxation\, and at
 tune individuals to their body’s innate wisdom.\nA Multi-Sensory Celebra
 tion of Love &amp\; Presence\nEvery detail of this event has been carefull
 y chosen to create an atmosphere of warmth and intimacy:\n\n 	The scent of
  Doterra Rose essential oil subtly filling the air\n 	The delicate touch o
 f rose petals and chocolate Hershey’s Kisses placed thoughtfully through
 out the space\n 	The glowing stained glass windows and elegant archways en
 hancing the chapel’s ethereal beauty\n\nTo deepen the experience\, each 
 guest will have the opportunity to select a luxurious satin sleep mask (av
 ailable in pink or black) from a handwoven basket upon arrival. During sav
 asana\, attendees may choose to slip it on\, allowing for an even more imm
 ersive and restorative moment of stillness.\nA Post-Class Valentine’s Da
 y Pop-Up: Creativity &amp\; Connection\nFollowing the yoga session\, guest
 s are invited to linger and participate in a whimsical DIY Valentine’s W
 orkshop\, where they can craft a personalized token of love. Whether creat
 ing a card for a partner\, a friend\, or oneself\, this interactive experi
 ence is designed to celebrate self-expression and meaningful connection.\n
 \nThe workshop features:\n\n 	A charming selection of vintage 80s and 90s 
 Valentine’s Day cards\n 	A custom Lululemon wax stamp for an elegant fin
 ishing touch\n 	Glitter pens\, stickers\, and fragrant perfumes to persona
 lize each creation\n\nFor those needing a little creative inspiration\, Sa
 rah Dobson will be on hand to assist\, ensuring that every guest leaves wi
 th a heartfelt keepsake.\nEvent Details\n\n 	Date: Friday\, February 14th\
 n 	Check-in: 7:00 PM – 7:30 PM\n 	Yoga Class: 7:30 PM – 8:45 PM\n 	DIY
  Valentine’s Workshop: 8:45 PM – 9:30 PM\n\nAdditional Notes\n\n 	Capa
 city: Limited to 90 attendees (ages 21+)\n 	Complimentary Gift: Each ticke
 t includes an LMNT gift bag\n 	Dress Code: Pink or black yoga attire encou
 raged (bonus points for Lululemon’s new “Passionate Pink” collection
 !)\n 	What to Bring: A yoga mat\n\nParking Information\n\n 	17 free parkin
 g spots available at The Chapel (first come\, first served)\n 	Paid parkin
 g located a short distance away (~$18 for the evening)\n 	Metered street p
 arking on Sycamore (approximately a 5-minute walk)\n\nThis elegant and int
 imate gathering offers a beautifully curated space for stillness\, self-ca
 re\, and celebration. Guests are encouraged to reserve their spot in advan
 ce\, as spaces are expected to fill quickly.\n\nSecure your ticket now and
  make this Valentine’s Day a truly unforgettable experience.\n\nGET TICK
 ETS\n
ATTACH;FMTTYPE=image/jpeg:https://breatheatlanta.us/wp-content/uploads/202
 5/02/CandleLIT-Yoga-Lovers-Edition-at-The-Chapel.jpeg
CATEGORIES:Wellness Events
LOCATION:The Chapel on Sycamore\, 318 Sycamore St\, Decatur\, GA\, 30033\, 
 GA\, United States
X-APPLE-STRUCTURED-LOCATION;VALUE=URI;X-ADDRESS=318 Sycamore St\, Decatur\,
  GA\, 30033\, GA\, United States;X-APPLE-RADIUS=100;X-TITLE=The Chapel on 
 Sycamore:geo:0,0
END:VEVENT
BEGIN:VTIMEZONE
TZID:America/New_York
X-LIC-LOCATION:America/New_York
BEGIN:STANDARD
DTSTART:20241103T010000
TZOFFSETFROM:-0400
TZOFFSETTO:-0500
TZNAME:EST
END:STANDARD
END:VTIMEZONE
END:VCALENDAR