BEGIN:VCALENDAR
VERSION:2.0
PRODID:-//wp-events-plugin.com//7.2.3.1//EN
TZID:America/New_York
X-WR-TIMEZONE:America/New_York
BEGIN:VEVENT
UID:603@breatheatlanta.us
DTSTART;TZID=America/New_York:20241109T150000
DTEND;TZID=America/New_York:20241109T180000
DTSTAMP:20241012T175705Z
URL:https://breatheatlanta.us/events/carbonbased-cellfood-seminar/
SUMMARY:Carbonbased Cellfood Seminar
DESCRIPTION:The Carbonbased Cellfood Seminar offers a unique and enlighteni
 ng experience centered on the benefits of holistic nutrition and cellular 
 health. This seminar delves into the science behind cell nourishment\, exp
 loring how natural supplements and nutrient-rich foods can optimize bodily
  functions\, enhance energy levels\, and promote overall well-being.\n\nLe
 d by experts in the field\, the Carbonbased Cellfood Seminar provides part
 icipants with in-depth knowledge about how the right nutrients can fuel th
 e body at a cellular level\, improving immunity\, digestion\, and mental c
 larity. The seminar emphasizes the importance of nurturing the body with p
 lant-based and organic options that are rich in essential vitamins\, miner
 als\, and enzymes\, ensuring that participants leave with practical tools 
 for making healthier\, more informed lifestyle choices.\n\nAttendees will 
 also have the opportunity to engage in interactive discussions\, ask quest
 ions\, and gain personalized insights into how they can incorporate these 
 nutritional principles into their daily lives. Whether you're looking to i
 mprove your overall health or seeking specific solutions to health challen
 ges\, the Carbonbased Cellfood Seminar is a must-attend event for anyone c
 ommitted to achieving optimal wellness from the inside out.\n\nGET TICKETS
 \n
ATTACH;FMTTYPE=image/jpeg:https://breatheatlanta.us/wp-content/uploads/202
 4/10/Carbonbased-Cellfood-Seminar.png
CATEGORIES:Food &amp; Drink Events
LOCATION:405 Lovejoy St NW\, 405 Lovejoy Street \, Northwest Atlanta\, GA\,
  30313\, GA\, United States
X-APPLE-STRUCTURED-LOCATION;VALUE=URI;X-ADDRESS=405 Lovejoy Street \, North
 west Atlanta\, GA\, 30313\, GA\, United States;X-APPLE-RADIUS=100;X-TITLE=
 405 Lovejoy St NW:geo:0,0
END:VEVENT
BEGIN:VTIMEZONE
TZID:America/New_York
X-LIC-LOCATION:America/New_York
BEGIN:STANDARD
DTSTART:20241103T010000
TZOFFSETFROM:-0400
TZOFFSETTO:-0500
TZNAME:EST
END:STANDARD
END:VTIMEZONE
END:VCALENDAR