BEGIN:VCALENDAR
VERSION:2.0
PRODID:-//wp-events-plugin.com//7.2.3.1//EN
TZID:America/New_York
X-WR-TIMEZONE:America/New_York
BEGIN:VEVENT
UID:716@breatheatlanta.us
DTSTART;TZID=America/New_York:20241102T100000
DTEND;TZID=America/New_York:20241103T170000
DTSTAMP:20241025T093452Z
URL:https://breatheatlanta.us/events/chastain-park-arts-festival/
SUMMARY:Chastain Park Arts Festival
DESCRIPTION:Recognized among the nation’s top art festivals\, the 13th An
 nual Chastain Park Arts Festival will transform Atlanta’s scenic Chastai
 n Park into a hub of creativity and culture. Taking place along Park Drive
 \, the festival hosts approximately 175 artists and artisans from across t
 he country\, each displaying unique and handcrafted works spanning paintin
 g\, sculpture\, photography\, ceramics\, jewelry\, and mixed media. Curate
 d to appeal to art enthusiasts of all tastes\, this festival offers an imm
 ersive experience where art\, community\, and nature meet.\n\nIn addition 
 to exploring the artist booths\, visitors can enjoy a variety of interacti
 ve elements and activities:\n\n 	Children’s Art Zone provides an array o
 f creative activities and crafts to inspire the next generation of artists
 .\n 	Local Food and Beverage Concessions\, including gourmet food trucks\,
  offer fresh flavors and diverse dining options.\n 	Live Acoustic Performa
 nces by talented regional musicians bring an authentic soundtrack to the f
 estival’s lively atmosphere\, inviting guests to relax and unwind.\n\nOr
 ganized by the Atlanta Foundation for Public Spaces and a team of voluntee
 r artists\, the event reflects Atlanta’s commitment to supporting local 
 art and culture while enhancing community spaces. Set within the lush surr
 oundings of Chastain Park\, the festival invites families\, friends\, and 
 art lovers to spend a memorable day outdoors. Best of all\, admission is f
 ree\, making it an accessible cultural experience for everyone.\n\nWhether
  you’re a seasoned collector\, an admirer of local talent\, or just look
 ing for a weekend outing with loved ones\, the Chastain Park Arts Festival
  promises an inspiring celebration of art\, creativity\, and community.\n\
 nGET TICKETS\n
ATTACH;FMTTYPE=image/jpeg:https://breatheatlanta.us/wp-content/uploads/202
 4/10/Chastain-Park-Arts-Festival.jpeg
CATEGORIES:Things To Do
LOCATION:Chastain Park\, 4469 Stella Dr NW\, Atlanta\, Georgia\, 30342\,  G
 A\, United States
X-APPLE-STRUCTURED-LOCATION;VALUE=URI;X-ADDRESS=4469 Stella Dr NW\, Atlanta
 \, Georgia\, 30342\,  GA\, United States;X-APPLE-RADIUS=100;X-TITLE=Chasta
 in Park:geo:0,0
END:VEVENT
BEGIN:VTIMEZONE
TZID:America/New_York
X-LIC-LOCATION:America/New_York
BEGIN:DAYLIGHT
DTSTART:20240310T030000
TZOFFSETFROM:-0500
TZOFFSETTO:-0400
TZNAME:EDT
END:DAYLIGHT
BEGIN:STANDARD
DTSTART:20241103T010000
TZOFFSETFROM:-0400
TZOFFSETTO:-0500
TZNAME:EST
END:STANDARD
END:VTIMEZONE
END:VCALENDAR