BEGIN:VCALENDAR
VERSION:2.0
PRODID:-//wp-events-plugin.com//7.2.3.1//EN
TZID:America/New_York
X-WR-TIMEZONE:America/New_York
BEGIN:VEVENT
UID:527@breatheatlanta.us
DTSTART;TZID=America/New_York:20241026T193000
DTEND;TZID=America/New_York:20241026T220000
DTSTAMP:20240930T113422Z
URL:https://breatheatlanta.us/events/chocolate-crates-a-soul-session/
SUMMARY:Chocolate Crates: A Soul Session
DESCRIPTION:Step into an extraordinary evening at Chocolate Crates: A Soul 
 Session\, where the rhythm of soulful music meets the power of spoken word
  in an unforgettable fusion of artistry. This immersive event brings toget
 her a community of creators and listeners for a night of inspiration\, con
 nection\, and raw talent.\n\nThe night kicks off with a 1-hour Open Mic se
 ssion\, offering participants the stage to share their poetry\, songs\, or
  any form of creative expression in front of an encouraging audience. It
 ’s a perfect opportunity for both seasoned and emerging artists to let t
 heir voices be heard. Following the Open Mic\, the Plug-In Session provide
 s a space for musicians to debut their fresh new singles\, allowing the au
 dience to experience cutting-edge sounds directly from the source.\n\nAs t
 he night progresses\, the main stage heats up with powerful performances f
 rom the sensational poet JahSun Dorsey\, a dynamic voice hailing from New 
 Haven\, CT\, and Newbian\, the soulful diva from Atlanta whose vocals reso
 nate with depth and emotion. Their performances will be backed by the tale
 nted house band\, The Crate Diggers\, known for their incredible ability t
 o seamlessly blend genres and keep the vibe alive.\n\nIn addition to the h
 eadlining acts\, artists like Suave will bring their unique flair\, making
  this a night of diversity and rich cultural expression. Whether you’re 
 performing\, watching\, or simply soaking in the atmosphere\, Chocolate Cr
 ates offers an inclusive and electric space where creativity flourishes.\n
 \nThis event is more than just a showcase—it's a cultural experience whe
 re community\, music\, and spoken word come together. Don't miss your chan
 ce to vibe with fellow artists\, make new connections\, and create lasting
  memories.\n\nEvent Line-Up:\n\n 	Open Mic (First Hour): A space for poets
 \, singers\, and creatives to share their art\n 	Plug-In Session: An exclu
 sive platform for artists to showcase their latest singles\n 	Featured Per
 formers: JahSun Dorsey\, Newbian\, Suave\, and The Crate Diggers\n\nBring 
 your talent\, your energy\, and your love for soulful vibes. We can’t wa
 it to see you there!\n\n#ChocolateCrates #SoulSession #OpenMicVibes #Spoke
 nWordAndSoul #TheCrateDiggersLive #CreativeCommunity\n\nGET TICKETS\n
ATTACH;FMTTYPE=image/jpeg:https://breatheatlanta.us/wp-content/uploads/202
 4/09/Chocolate-Crates.-A-Soul-Session.jpg
CATEGORIES:Food &amp; Drink Events
LOCATION:The Stadium\, 4525 Glenwood Road\, Decatur\, Georgia\, 30032\, GA\
 , United States
X-APPLE-STRUCTURED-LOCATION;VALUE=URI;X-ADDRESS=4525 Glenwood Road\, Decatu
 r\, Georgia\, 30032\, GA\, United States;X-APPLE-RADIUS=100;X-TITLE=The St
 adium:geo:0,0
END:VEVENT
BEGIN:VTIMEZONE
TZID:America/New_York
X-LIC-LOCATION:America/New_York
BEGIN:DAYLIGHT
DTSTART:20240310T030000
TZOFFSETFROM:-0500
TZOFFSETTO:-0400
TZNAME:EDT
END:DAYLIGHT
END:VTIMEZONE
END:VCALENDAR