BEGIN:VCALENDAR
VERSION:2.0
PRODID:-//wp-events-plugin.com//7.2.3.1//EN
TZID:America/New_York
X-WR-TIMEZONE:America/New_York
BEGIN:VEVENT
UID:220@breatheatlanta.us
DTSTART;TZID=America/New_York:20240505T103000
DTEND;TZID=America/New_York:20240505T113000
DTSTAMP:20240404T102125Z
URL:https://breatheatlanta.us/events/cinco-de-mayo-yogarita-flow-with-teni
 sha-camille/
SUMMARY:Cinco de Mayo Yogarita Flow with Tenisha Camille
DESCRIPTION:Join me for a lively Cinco de Mayo Yogarita Flow with Tenisha C
 amille on May 5th\, 2024\, at 10:30 am! Let's flow\, cheers\, and celebrat
 e together!\n\nEvent Information:\n\nEvent Name: Cinco de Mayo Yogarita Fl
 ow with Tenisha Camille\n\nHost: Yoga with Tenisha Camille\, LLC\n\nDate a
 nd Time: Sunday\, May 5 • 10:30 - 11:30am EDT\n\nLocation: Lilburn City 
 Park\, 76 Main Street Northwest Lilburn\, GA 30047 United States\n\nAbout 
 this Event:\n\nGet ready for a lively Cinco de Mayo Yogarita Flow with Ten
 isha Camille on May 5th\, 2024\, at 10:30 am!  for an hour of energizing 
 yoga flow followed by a cheerful celebration.\n\nTicket Information: Donat
 ion (Sales end on May 5\, 2024 - Fees will be deducted from your donation 
 amount but taxes will be calculated before you place your order)\n\nGET TI
 CKETS\n\n\n\nDonation:\n\nSales end on May 5\, 2024 - Fees will be deducte
 d from your donation amount but taxes will be calculated before you place 
 your order.\n\nWorkout Session Detail:\n\nIndulge in a unique blend of yog
 a and margaritas with our Cinco de Mayo Yogarita Flow! Flow through invigo
 rating yoga poses and enjoy the festive spirit with your fellow yogis.\n\n
 Essential for Bringing:\n\nYoga mat\n\nWater bottle\n\nPositive energy and
  enthusiasm!\n\nParking Option:\n\nParking is available at Lilburn City Pa
 rk.\n\nGet ready to flow\, cheer\, and celebrate Cinco de Mayo with us! Se
 e you on your mat!\n\nFor inquiries\, contact Tenisha Camille at 678-994-1
 964.\n\n
ATTACH;FMTTYPE=image/jpeg:https://breatheatlanta.us/wp-content/uploads/202
 4/04/VCVCVCVCV.jpg
CATEGORIES:Wellness Events
LOCATION:Lilburn City Park\,   76 Main Street Northwest \, Lilburn\, \, Uni
 ted States\, 30047 \, GA \, United States
X-APPLE-STRUCTURED-LOCATION;VALUE=URI;X-ADDRESS=  76 Main Street Northwest 
 \, Lilburn\, \, United States\, 30047 \, GA \, United States;X-APPLE-RADIU
 S=100;X-TITLE=Lilburn City Park:geo:0,0
END:VEVENT
BEGIN:VTIMEZONE
TZID:America/New_York
X-LIC-LOCATION:America/New_York
BEGIN:DAYLIGHT
DTSTART:20240310T030000
TZOFFSETFROM:-0500
TZOFFSETTO:-0400
TZNAME:EDT
END:DAYLIGHT
END:VTIMEZONE
END:VCALENDAR