BEGIN:VCALENDAR
VERSION:2.0
PRODID:-//wp-events-plugin.com//7.2.3.1//EN
TZID:America/New_York
X-WR-TIMEZONE:America/New_York
BEGIN:VEVENT
UID:720@breatheatlanta.us
DTSTART;TZID=America/New_York:20241109T190000
DTEND;TZID=America/New_York:20241215T220000
DTSTAMP:20241029T050948Z
URL:https://breatheatlanta.us/events/cirque-de-soleil-luzia/
SUMMARY:Cirque de Soleil: Luzia
DESCRIPTION:Step into the dreamlike universe of Cirque du Soleil’s LUZIA\
 , where the vibrant spirit of Mexico comes to life through a mesmerizing t
 apestry of sights\, sounds\, and extraordinary acrobatics. This journey be
 gins in an enchanting reimagined Mexico\, where audiences will be immersed
  in awe-inspiring scenes filled with colorful backdrops\, whimsical charac
 ters\, and visually stunning surprises.\n\nLUZIA seamlessly navigates the 
 essence of Mexican culture\, blending the echoes of its past with the rhyt
 hm of its modern-day life. Audiences are transported through iconic locati
 ons: feel the nostalgia of a classic movie set\, experience the smoky allu
 re of a vintage dance hall\, and bask in the warmth of a sandy beach befor
 e moving into the mystique of Mexico’s open deserts.\n\nFrom heart-stopp
 ing aerial feats to graceful choreography\, LUZIA celebrates the spirit of
  Mexico through Cirque du Soleil’s hallmark creativity\, leaving the aud
 ience enthralled and spellbound as they journey through this magical land.
 \n\nGET TICKETS\n
ATTACH;FMTTYPE=image/jpeg:https://breatheatlanta.us/wp-content/uploads/202
 4/10/Cirque-de-Soleil-Luzia.jpg
CATEGORIES:Arts &amp; Performances,Things To Do
LOCATION:Atlantic Station\, 241 20th Street\, Atlanta\, Georgia\, 30363\,  
 GA\, United States
X-APPLE-STRUCTURED-LOCATION;VALUE=URI;X-ADDRESS=241 20th Street\, Atlanta\,
  Georgia\, 30363\,  GA\, United States;X-APPLE-RADIUS=100;X-TITLE=Atlantic
  Station:geo:0,0
END:VEVENT
BEGIN:VTIMEZONE
TZID:America/New_York
X-LIC-LOCATION:America/New_York
BEGIN:STANDARD
DTSTART:20241103T010000
TZOFFSETFROM:-0400
TZOFFSETTO:-0500
TZNAME:EST
END:STANDARD
END:VTIMEZONE
END:VCALENDAR