BEGIN:VCALENDAR
VERSION:2.0
PRODID:-//wp-events-plugin.com//7.2.3.1//EN
TZID:America/New_York
X-WR-TIMEZONE:America/New_York
BEGIN:VEVENT
UID:409@breatheatlanta.us
DTSTART;TZID=America/New_York:20240815T190000
DTEND;TZID=America/New_York:20240818T170000
DTSTAMP:20240802T191113Z
URL:https://breatheatlanta.us/events/cirque-du-soleil/
SUMMARY:Cirque du Soleil
DESCRIPTION:Step into the whimsical world of Cirque du Soleil with "Carniva
 l of Dreams\," where Clown Mauro envisions his own burial amid a vibrant c
 arnival atmosphere. This mesmerizing show masterfully blends the silly wit
 h the tragic\, offering a captivating experience that will leave you spell
 bound.\n\nPrepare to be amazed as performers swing gracefully from chandel
 iers\, execute stunning flips on the horizontal bar\, bounce energetically
  on trampolines\, and float dreamily with balloons. Each act is a testamen
 t to the incredible skill and artistry that Cirque du Soleil is renowned f
 or.\n\nJoin us for an unforgettable journey where dreams and reality blur\
 , and every moment is filled with wonder and awe. Don’t miss this enchan
 ting performance that celebrates the beauty and complexity of life.\n\nGET
  TICKETS\n
ATTACH;FMTTYPE=image/jpeg:https://breatheatlanta.us/wp-content/uploads/202
 4/08/Cirque-du-Soleil.webp
CATEGORIES:Arts &amp; Performances,Things To Do
LOCATION:Gas South District\, 6400 Sugarloaf Parkway\, Duluth\, Atlanta\, G
 eorgia\, 30097\, GA\, United States
X-APPLE-STRUCTURED-LOCATION;VALUE=URI;X-ADDRESS=6400 Sugarloaf Parkway\, Du
 luth\, Atlanta\, Georgia\, 30097\, GA\, United States;X-APPLE-RADIUS=100;X
 -TITLE=Gas South District:geo:0,0
END:VEVENT
BEGIN:VTIMEZONE
TZID:America/New_York
X-LIC-LOCATION:America/New_York
BEGIN:DAYLIGHT
DTSTART:20240310T030000
TZOFFSETFROM:-0500
TZOFFSETTO:-0400
TZNAME:EDT
END:DAYLIGHT
END:VTIMEZONE
END:VCALENDAR