BEGIN:VCALENDAR
VERSION:2.0
PRODID:-//wp-events-plugin.com//7.2.3.1//EN
TZID:America/New_York
X-WR-TIMEZONE:America/New_York
BEGIN:VEVENT
UID:298@breatheatlanta.us
DTSTART;TZID=America/New_York:20240614T220000
DTEND;TZID=America/New_York:20240615T030000
DTSTAMP:20240527T001419Z
URL:https://breatheatlanta.us/events/cloonee-sosa/
SUMMARY:CLOONEE & SOSA
DESCRIPTION:Get ready for an unforgettable musical journey with CLOONEE and
  SOSA!\nCLOONEE\nGenre: Tech House\nOrigin: United Kingdom\n\nFollowing hi
 s infectious debut EP on Elrow Music in 2017\, Cloonee has quickly ascende
 d the ranks of the Tech House scene. With releases on some of the genre's 
 most influential labels\, he has garnered support from top tastemakers and
  solidified his place on the Tech House circuit.\nSOSA\nGenre: House\nOrig
 in: United Kingdom\n\nKnown for his hypnotic grooves\, SOSA has been dilig
 ently perfecting his minimal-tech productions in the studio. His tracks ha
 ve earned support from key figures like The Martinez Brothers\, Michael Bi
 bi\, PAWSA\, and Jamie Jones. With releases on renowned labels such as Cut
 ting Headz\, Hottrax\, COCO\, Solid Grooves RAW\, Black Book Records\, Mox
 y Music\, Repopulate Mars\, Sola\, Ultra\, Hot Creations\, and Ministry of
  Sound\, SOSA is a rising star in the House music scene.\nAMAL NEMER\nGenr
 e: House\nOrigin: Miami\n\nAmal Nemer brings a charismatic presence and an
  infectious energy that gets everyone on their feet. She connects minds\, 
 bodies\, and souls through her music. After exploring Afro house and melod
 ic house\, she is now returning to her tech house roots\, inspired by her 
 love for pure percussion and musical idols like Damian Lazarus and The Mar
 tinez Brothers.\n\nJoin us for a night where these incredible artists will
  take you on a musical adventure like no other. Don't miss out on the beat
 s and rhythms that will keep you dancing all night long!\n\nGET TICKETS\n
ATTACH;FMTTYPE=image/jpeg:https://breatheatlanta.us/wp-content/uploads/202
 4/05/CLOONEE-SOSA.jpg
LOCATION:District Atlanta\, 269 Armour Drive Northeast Atlanta\, Atlanta\, 
 Georgia\, 30324\, GA\, United States
X-APPLE-STRUCTURED-LOCATION;VALUE=URI;X-ADDRESS=269 Armour Drive Northeast 
 Atlanta\, Atlanta\, Georgia\, 30324\, GA\, United States;X-APPLE-RADIUS=10
 0;X-TITLE=District Atlanta:geo:0,0
END:VEVENT
BEGIN:VTIMEZONE
TZID:America/New_York
X-LIC-LOCATION:America/New_York
BEGIN:DAYLIGHT
DTSTART:20240310T030000
TZOFFSETFROM:-0500
TZOFFSETTO:-0400
TZNAME:EDT
END:DAYLIGHT
END:VTIMEZONE
END:VCALENDAR