BEGIN:VCALENDAR
VERSION:2.0
PRODID:-//wp-events-plugin.com//7.2.3.1//EN
TZID:America/New_York
X-WR-TIMEZONE:America/New_York
BEGIN:VEVENT
UID:221@breatheatlanta.us
DTSTART;TZID=America/New_York:20240505T183000
DTEND;TZID=America/New_York:20240505T193000
DTSTAMP:20240404T102229Z
URL:https://breatheatlanta.us/events/community-care-yoga/
SUMMARY:Community Care Yoga
DESCRIPTION:Experience the healing power of yoga\, absolutely free for the 
 community. EVERY Sunday at 6:30 PM\, for a rejuvenating session\, powered 
 by Lululemon and Nectar Yoga.\n\nEvent Information:\n\nEvent Name: Communi
 ty Care Yoga\n\nHost: Atlanta Social Yoga\n\nDate and Time: Sunday\, May 5
  • 6:30 - 7:30 pm EDT\n\nLocation: Nectar Yoga\, 465 Flat Shoals Avenue 
 Southeast\, Atlanta\, GA 30316\, United States\n\nAbout this Event: for C
 ommunity Care Yoga\, a weekly session of trauma-informed\, non-heated yoga
  at Nectar Yoga! Powered by Lululemon and Nectar Yoga\, this class offers 
 consistent access to healing practices led by senior teachers Danielle Bru
 nson and Brianna Whitfield.\n\nTicket Price: Free for all attendees\n\nGET
  TICKETS\n\n\n\nWorkout Session Detail: Experience a nurturing yoga practi
 ce aimed at promoting healing and well-being. This class is trauma-informe
 d and designed to provide a safe and supportive environment for all partic
 ipants.\n\nEssential for Bringing:\n\nComfortable clothing suitable for yo
 ga\n\nPositive energy and an open mind\n\nDonations to support other free 
 yoga sessions in Atlanta (optional)\n\nParking Option: Parking is availabl
 e at Nectar Yoga. Please refer to the provided map for details.\n\nfor an 
 hour of rejuvenation and community connection at Community Care Yoga. Mats
  are provided\, so come as you are and experience the healing power of yog
 a.\n\n
ATTACH;FMTTYPE=image/jpeg:https://breatheatlanta.us/wp-content/uploads/202
 4/04/kaair.jpg
CATEGORIES:Wellness Events,Yoga Events
LOCATION:Nectar Yoga\,   465 Flat Shoals Avenue Southeast \, \, Atlanta\, U
 nited States\, 30316 \, GA \, United States
X-APPLE-STRUCTURED-LOCATION;VALUE=URI;X-ADDRESS=  465 Flat Shoals Avenue So
 utheast \, \, Atlanta\, United States\, 30316 \, GA \, United States;X-APP
 LE-RADIUS=100;X-TITLE=Nectar Yoga:geo:0,0
END:VEVENT
BEGIN:VTIMEZONE
TZID:America/New_York
X-LIC-LOCATION:America/New_York
BEGIN:DAYLIGHT
DTSTART:20240310T030000
TZOFFSETFROM:-0500
TZOFFSETTO:-0400
TZNAME:EDT
END:DAYLIGHT
END:VTIMEZONE
END:VCALENDAR