BEGIN:VCALENDAR
VERSION:2.0
PRODID:-//wp-events-plugin.com//7.2.3.1//EN
TZID:America/New_York
X-WR-TIMEZONE:America/New_York
BEGIN:VEVENT
UID:223@breatheatlanta.us
DTSTART;TZID=America/New_York:20240501T110000
DTEND;TZID=America/New_York:20240501T120000
DTSTAMP:20240404T102356Z
URL:https://breatheatlanta.us/events/community-yoga-free/
SUMMARY:Community yoga Free
DESCRIPTION:\n\n\n\n\n\n\n\n\n\n\n\n\nExperience the warmth of community an
 d the serenity of yoga!   for a complimentary community yoga class and i
 ndulge in an hour of gentle\, nourishing practice.\n\nEvent Name: Communit
 y Yoga\n\nHost: Aum Studio For Wellness\n\nDate and Time: Wednesday\, May 
 1 • 11am - 12pm EDT\n\nAbout this Event: You are warmly invited  to a f
 ree community yoga class and enjoy an hour of gentle and nourishing yoga p
 ractice.\n\nTicket Information: 1 x General Admission - Free\n\nGET TICKET
 S\n\n\n\nWorkout Session Detail: Experience a gentle and nourishing yoga p
 ractice designed to rejuvenate your body and calm your mind.\n\nEssential 
 for Bring: Comfortable yoga attire\, water bottle\, and a yoga mat (if you
  have one\, mats are also provided).\n\nParking Option: Parking is availab
 le at the venue location.\n\nLocation: Aum Studio for Wellness 11550 Webb 
 Bridge Way #Suite B2 Alpharetta\, GA 30005 United States\n\n\n\n\n\n\n\n\n
 \n\n\n\n\n
ATTACH;FMTTYPE=image/jpeg:https://breatheatlanta.us/wp-content/uploads/202
 4/04/YOGAA.jpg
CATEGORIES:Wellness Events,Yoga Events
LOCATION:Aum Studio for Wellness\, 11550 Webb Bridge Way #Suite B2 \, \, Al
 pharetta\, United States\, 30005 \, GA \, United States
X-APPLE-STRUCTURED-LOCATION;VALUE=URI;X-ADDRESS=11550 Webb Bridge Way #Suit
 e B2 \, \, Alpharetta\, United States\, 30005 \, GA \, United States;X-APP
 LE-RADIUS=100;X-TITLE=Aum Studio for Wellness:geo:0,0
END:VEVENT
BEGIN:VTIMEZONE
TZID:America/New_York
X-LIC-LOCATION:America/New_York
BEGIN:DAYLIGHT
DTSTART:20240310T030000
TZOFFSETFROM:-0500
TZOFFSETTO:-0400
TZNAME:EDT
END:DAYLIGHT
END:VTIMEZONE
END:VCALENDAR