BEGIN:VCALENDAR
VERSION:2.0
PRODID:-//wp-events-plugin.com//7.2.3.1//EN
TZID:America/New_York
X-WR-TIMEZONE:America/New_York
BEGIN:VEVENT
UID:480@breatheatlanta.us
DTSTART;TZID=America/New_York:20241026T170000
DTEND;TZID=America/New_York:20241026T200000
DTSTAMP:20240925T162121Z
URL:https://breatheatlanta.us/events/cookaroos-baking-with-the-brothers/
SUMMARY:Cookaroos : Baking with the Brothers
DESCRIPTION:Cookaroos presents "Baking with the Brothers\," a dynamic and e
 ngaging monthly baking class designed for young\, aspiring chefs eager to 
 explore the kitchen. Each class introduces new themes and fun-filled activ
 ities\, where children not only learn valuable baking skills but also get 
 to unleash their creativity with a variety of festive\, hands-on projects.
  From spooky treats in October to heartwarming Mother’s Day delights\, e
 very session promises a memorable culinary adventure.\nUpcoming 2024 Class
 es:\n\n 	Spooky Treats – October 26: Celebrate Halloween with themed bak
 ing\, pumpkin carving\, bobbing for apples\, exclusive games\, and prizes.
 \n 	Thanksgiving Baking Bonanza – November 23: Kids will bake Thanksgivi
 ng treats\, participate in gratitude activities\, and create festive arts 
 &amp\; crafts to take home.\n 	Holiday Cookie Decorating – December 14: 
 A cookie decorating party complete with a surprise gift exchange\, winter-
 themed arts &amp\; crafts\, and free tickets for parents!\n\nUpcoming 2025
  Classes:\n\n 	Cozy Winter Baking – January 18: Learn to make comfort fo
 od\, join in on storytime\, and play fun winter games.\n 	Sweet Valentine 
 Baking – February 15: Create Valentine’s treats and enjoy crafts\, gam
 es\, and VIP experiences for parents.\n 	Spring Baking Adventures – Marc
 h 22: Celebrate spring with festive treat baking and a scavenger hunt.\n 	
 Easter Fun – April 19: Bunny cookie baking\, egg decorating\, an egg hun
 t\, and exclusive games.\n 	Mother’s Day Yummy Treats – May 10: Bake f
 or mom\, enjoy bonding games\, crafts\, and heartwarming stories.\n 	Fathe
 r’s Day Baking Fun – June 14: Special baking session for dads\, includ
 ing storytelling\, crafts\, and free parent tickets.\n 	Red\, White &amp\;
  Blue – July 5: Patriotic baking\, outdoor games\, and fireworks to cele
 brate summer.\n 	Back to School Baking Bash – August 2: Snack preparatio
 n\, back-to-school tips\, games\, and a bookbag giveaway.\n 	Happy Birthda
 y\, Head Chef Xzavier – September 20: Celebrate Head Chef Xzavier's birt
 hday with cake making\, party games\, swag bags\, and party foods.\n 	Fall
  Treats – October 25: Enjoy fall-themed baking\, a harvest scavenger hun
 t\, and take-home treats.\n\nEach class provides snacks and water\, and pa
 rents are encouraged to notify Cookaroos of any food allergies via email a
 fter purchasing tickets.\n\nFrom Halloween fun to heartwarming holiday mem
 ories\, Cookaroos: Baking with the Brothers offers a rich\, educational ex
 perience for kids and families alike!\n\nGET TICKETS\n
ATTACH;FMTTYPE=image/jpeg:https://breatheatlanta.us/wp-content/uploads/202
 4/09/Cookaroos-Baking-with-the-Brothers.jpg
CATEGORIES:Food &amp; Drink Events
LOCATION:644 Elinor Pl NW\, 644 Elinor Place\, Northwest Atlanta\, Georgia\
 , 30318\, GA\, United States
X-APPLE-STRUCTURED-LOCATION;VALUE=URI;X-ADDRESS=644 Elinor Place\, Northwes
 t Atlanta\, Georgia\, 30318\, GA\, United States;X-APPLE-RADIUS=100;X-TITL
 E=644 Elinor Pl NW:geo:0,0
END:VEVENT
BEGIN:VTIMEZONE
TZID:America/New_York
X-LIC-LOCATION:America/New_York
BEGIN:DAYLIGHT
DTSTART:20240310T030000
TZOFFSETFROM:-0500
TZOFFSETTO:-0400
TZNAME:EDT
END:DAYLIGHT
END:VTIMEZONE
END:VCALENDAR