BEGIN:VCALENDAR
VERSION:2.0
PRODID:-//wp-events-plugin.com//7.2.3.1//EN
TZID:America/New_York
X-WR-TIMEZONE:America/New_York
BEGIN:VEVENT
UID:559@breatheatlanta.us
DTSTART;TZID=America/New_York:20241019T180000
DTEND;TZID=America/New_York:20241119T200000
DTSTAMP:20241007T102050Z
URL:https://breatheatlanta.us/events/cool-ass-dog-halloween-party/
SUMMARY:Cool Ass Dog HALLOWEEN Party
DESCRIPTION:Get ready for a howl-ing good time this Halloween with your fur
 ry best friend! The Cool Ass Dog Halloween Party at The Darwin Hotel invit
 es you and your pup to dress up\, meet other dog lovers\, and enjoy a nigh
 t full of festive fun. Whether you’re into scary\, funny\, or matching c
 ostumes with your dog\, this event has something for everyone!\n\nEvent Hi
 ghlights:\n\n 	Costume Contest: Does your pup have the best sense of humor
  or a spooky flair? Enter the costume contest and compete for the titles o
 f:\n\n 	Best Funny Costume\n 	Best Scary Costume\n 	Best Dog + Dog Parent 
 Costume Combo\n 	Best Tricks — show off those awesome doggie talents!\n\
 n\n 	Full Bar &amp\; Refreshments: Sip on your favorite drinks from the fu
 ll bar\, all while mingling with other cool dog parents in the relaxed atm
 osphere of The Darwin Hotel courtyard.\n 	Halloween Vibes: Bask in the coo
 l evening air with spooky decor\, festive music\, and plenty of conversati
 on as you celebrate the season with your dog in tow.\n\nWhether you’re a
  Halloween fanatic or just looking for a fun way to spend time with your d
 og\, this event is a great chance to show off your pet's (and your own!) c
 reativity and meet a community of fellow dog lovers. Dress to impress and 
 get ready for a memorable night of fun\, tricks\, and treats!\n\nDon't for
 get to bring your cool ass dog—and maybe even your best costume game!\n\
 nGET TICKETS\n
ATTACH;FMTTYPE=image/jpeg:https://breatheatlanta.us/wp-content/uploads/202
 4/10/Cool-Ass-Dog-HALLOWEEN-Party.jpg
CATEGORIES:Things To Do
LOCATION:The Darwin Hotel\, 585 Parkway Drive Northeast Atlanta\, Atlanta\,
  Georgia\, 30308\, GA\, United States
X-APPLE-STRUCTURED-LOCATION;VALUE=URI;X-ADDRESS=585 Parkway Drive Northeast
  Atlanta\, Atlanta\, Georgia\, 30308\, GA\, United States;X-APPLE-RADIUS=1
 00;X-TITLE=The Darwin Hotel:geo:0,0
END:VEVENT
BEGIN:VTIMEZONE
TZID:America/New_York
X-LIC-LOCATION:America/New_York
BEGIN:DAYLIGHT
DTSTART:20240310T030000
TZOFFSETFROM:-0500
TZOFFSETTO:-0400
TZNAME:EDT
END:DAYLIGHT
BEGIN:STANDARD
DTSTART:20241103T010000
TZOFFSETFROM:-0400
TZOFFSETTO:-0500
TZNAME:EST
END:STANDARD
END:VTIMEZONE
END:VCALENDAR