BEGIN:VCALENDAR
VERSION:2.0
PRODID:-//wp-events-plugin.com//7.2.3.1//EN
TZID:America/New_York
X-WR-TIMEZONE:America/New_York
BEGIN:VEVENT
UID:632@breatheatlanta.us
DTSTART;TZID=America/New_York:20241114T120000
DTEND;TZID=America/New_York:20241114T130000
DTSTAMP:20241014T113954Z
URL:https://breatheatlanta.us/events/couples-conception/
SUMMARY:Couples Conception
DESCRIPTION:Discover the true foundation of a meaningful and lasting relati
 onship with this transformative Couples Conception workshop. Through a pro
 cess of introspection and connection\, participants will explore how their
  feelings\, flaws\, mistakes\, and forgiveness have shaped their journey t
 ogether. Now\, it's time to merge these experiences and embark on a unique
  path toward deeper connection and growth.\n\nHosted live via Zoom\, this 
 5-day workshop offers an immersive experience where couples will learn how
  to break free from the past and rebuild trust and understanding\, even af
 ter enduring hurt\, heartache\, and challenges. This isn’t just another 
 relationship workshop—it’s a powerful opportunity to create something 
 truly lasting and meaningful.\n\nDeniece-Camille\, the facilitator\, guara
 ntees that participants will walk away with practical tools for winning at
  love and partnership. With an open mind and a willingness to grow\, coupl
 es will experience a renewed sense of togetherness.\n\nWhat to Expect:\n\n
  	When: 5-day live Zoom workshop\n 	Focus: Connection\, creation\, growth\
 , and healing\n 	Who Should Attend: Couples ready to rebuild after difficu
 lties and deepen their relationship\n\nThis workshop is more impactful tha
 n any other relationship class or event. It provides the tools to be a bet
 ter version of yourself and show up fully for your partner\, without letti
 ng the pain of the past dictate your future.\n\nInvest in your relationshi
 p\, your partner\, and most importantly\, yourself. Join Deniece-Camille o
 n this life-changing journey by following\, liking\, and subscribing today
 . Together\, let’s plant the seeds for a thriving partnership!\n\nGET TI
 CKETS\n
ATTACH;FMTTYPE=image/jpeg:https://breatheatlanta.us/wp-content/uploads/202
 4/10/Couples-Conception.jpeg
CATEGORIES:Wellness Events
LOCATION:Atlanta\, Virtual via Zoom \, Atlanta\,\, Georgia\, 30032 \, GA\, 
 United States
X-APPLE-STRUCTURED-LOCATION;VALUE=URI;X-ADDRESS=Virtual via Zoom \, Atlanta
 \,\, Georgia\, 30032 \, GA\, United States;X-APPLE-RADIUS=100;X-TITLE=Atla
 nta:geo:0,0
END:VEVENT
BEGIN:VTIMEZONE
TZID:America/New_York
X-LIC-LOCATION:America/New_York
BEGIN:STANDARD
DTSTART:20241103T010000
TZOFFSETFROM:-0400
TZOFFSETTO:-0500
TZNAME:EST
END:STANDARD
END:VTIMEZONE
END:VCALENDAR