BEGIN:VCALENDAR
VERSION:2.0
PRODID:-//wp-events-plugin.com//7.2.3.1//EN
TZID:America/New_York
X-WR-TIMEZONE:America/New_York
BEGIN:VEVENT
UID:613@breatheatlanta.us
DTSTART;TZID=America/New_York:20241108T180000
DTEND;TZID=America/New_York:20241108T200000
DTSTAMP:20241013T123213Z
URL:https://breatheatlanta.us/events/cozy-candle-making-candle-making-clas
 s-by-classpop-2/
SUMMARY:Cozy Candle-Making - Candle Making Class by Classpop!™
DESCRIPTION:\n\n\n\n\n\n\n\n\n\n\n\n\n\n\n\n"Cozy Candle-Making\," offered 
 by Classpop!™\, is a hands-on candle-making class designed to spark crea
 tivity while teaching the art of crafting beautiful\, personalized candles
 . Led by the skilled Instructor Lea\, participants are guided through the 
 entire process\, from choosing and blending scents to customizing colors. 
 This step-by-step class provides an inspiring environment for anyone inter
 ested in creating unique candles that add warmth to their home or serve as
  thoughtful\, handmade gifts for loved ones.\n\nPerfect for beginners and 
 craft enthusiasts alike\, "Cozy Candle-Making" allows participants to expl
 ore their creative side while learning new skills in a relaxed\, supportiv
 e setting. In addition to candle-making\, Classpop!™ offers a variety of
  fun and engaging classes\, such as dance\, painting\, and pottery\, all t
 aught by talented local instructors. Whether you're looking to explore a n
 ew hobby or spend an enjoyable day learning\, Classpop!™ has something f
 or everyone.\n\nVisit Classpop!™ to discover dates and details for "Cozy
  Candle-Making" and other creative experiences near you.\n\nGET TICKETS\n\
 n\n\n\n\n\n
ATTACH;FMTTYPE=image/jpeg:https://breatheatlanta.us/wp-content/uploads/202
 4/10/Cozy-Candle.jpeg
CATEGORIES:Wellness Events
LOCATION:Sankofa Essentials\, 141 Mangum St \, SW Suite 203\, Atlanta\, GA\
 , 30313\, GA\, United States
X-APPLE-STRUCTURED-LOCATION;VALUE=URI;X-ADDRESS=141 Mangum St \, SW Suite 2
 03\, Atlanta\, GA\, 30313\, GA\, United States;X-APPLE-RADIUS=100;X-TITLE=
 Sankofa Essentials:geo:0,0
END:VEVENT
BEGIN:VTIMEZONE
TZID:America/New_York
X-LIC-LOCATION:America/New_York
BEGIN:STANDARD
DTSTART:20241103T010000
TZOFFSETFROM:-0400
TZOFFSETTO:-0500
TZNAME:EST
END:STANDARD
END:VTIMEZONE
END:VCALENDAR