BEGIN:VCALENDAR
VERSION:2.0
PRODID:-//wp-events-plugin.com//7.2.3.1//EN
TZID:America/New_York
X-WR-TIMEZONE:America/New_York
BEGIN:VEVENT
UID:582@breatheatlanta.us
DTSTART;TZID=America/New_York:20241102T180000
DTEND;TZID=America/New_York:20241102T200000
DTSTAMP:20241009T141425Z
URL:https://breatheatlanta.us/events/cozy-candle-making-candle-making-clas
 s-by-classpop/
SUMMARY:Cozy Candle-Making - Candle Making Class by Classpop!™
DESCRIPTION:Ignite your imagination with the "Cozy Candle-Making" class\, a
  creative experience offered by Classpop!™. Under the guidance of the sk
 illed instructor Lea\, participants are welcomed into a warm and inspiring
  atmosphere where they can learn the art of candle making. This hands-on c
 lass is designed to nurture creativity while equipping individuals with th
 e techniques needed to craft beautiful candles.\n\nThroughout the session\
 , attendees will explore the step-by-step process of candle making\, from 
 selecting scents and colors to pouring wax and finishing touches. Whether 
 participants aim to enhance their home with a cozy ambiance or to create h
 eartfelt handmade gifts for friends and family\, this class caters to all 
 levels of experience.\n\nClasspop!™ features a variety of engaging and e
 njoyable classes\, including dance\, painting\, pottery\, and more\, all t
 aught by talented local instructors. With a focus on creativity and relaxa
 tion\, participants can learn new skills while enjoying a fun-filled envir
 onment. Book a class today to unleash your creativity and find inspiration
  in the art of candle making!\n\nGET TICKETS\n
ATTACH;FMTTYPE=image/jpeg:https://breatheatlanta.us/wp-content/uploads/202
 4/10/Cozy-Candle-Making-Candle-Making-Class-by-Classpop™.jpeg
CATEGORIES:Food &amp; Drink Events
LOCATION:Sankofa Essentials\, 141 Mangum St SW Suite 203\, Atlanta\, GA\, 3
 0313\, GA\, United States
X-APPLE-STRUCTURED-LOCATION;VALUE=URI;X-ADDRESS=141 Mangum St SW Suite 203\
 , Atlanta\, GA\, 30313\, GA\, United States;X-APPLE-RADIUS=100;X-TITLE=San
 kofa Essentials:geo:0,0
END:VEVENT
BEGIN:VTIMEZONE
TZID:America/New_York
X-LIC-LOCATION:America/New_York
BEGIN:DAYLIGHT
DTSTART:20240310T030000
TZOFFSETFROM:-0500
TZOFFSETTO:-0400
TZNAME:EDT
END:DAYLIGHT
END:VTIMEZONE
END:VCALENDAR