BEGIN:VCALENDAR
VERSION:2.0
PRODID:-//wp-events-plugin.com//7.2.3.1//EN
TZID:America/New_York
X-WR-TIMEZONE:America/New_York
BEGIN:VEVENT
UID:481@breatheatlanta.us
DTSTART;TZID=America/New_York:20241007T090000
DTEND;TZID=America/New_York:20241008T170000
DTSTAMP:20240925T085623Z
URL:https://breatheatlanta.us/events/crick-cancer-research-symposium-2024/
SUMMARY:Crick Cancer Research Symposium 2024
DESCRIPTION:The Crick Cancer Research Symposium 2024 will showcase the late
 st breakthroughs in cancer research\, focusing on both the internal and ex
 ternal factors that contribute to the development and progression of the d
 isease. Key areas of exploration will include:\n\n 	Molecular Biology of C
 ancer: A deep dive into the mechanisms governing cancer cell behavior at t
 he molecular level.\n 	Tumor Microenvironment and Cell Interactions: Insig
 hts into how cancer cells interact with their surrounding environment and 
 neighboring cells\, shaping tumor growth and resistance.\n 	Advances in Ea
 rly Detection and Clinical Intervention: A review of the latest techniques
  and strategies for diagnosing cancer in its earliest stages\, along with 
 cutting-edge clinical approaches to treatment.\n\nFor additional details\,
  attendees and interested parties are encouraged to visit the official Cri
 ck website.\n\nGET TICKETS\n
ATTACH;FMTTYPE=image/jpeg:https://breatheatlanta.us/wp-content/uploads/202
 4/09/Crick-Cancer-Research-Symposium-2024.jpg
CATEGORIES:Wellness Events
LOCATION:The Francis Crick Institute\, 1 Midland Road\,  London\, London\, 
 NW11AT\, London\, United Kingdom
X-APPLE-STRUCTURED-LOCATION;VALUE=URI;X-ADDRESS=1 Midland Road\,  London\, 
 London\, NW11AT\, London\, United Kingdom;X-APPLE-RADIUS=100;X-TITLE=The F
 rancis Crick Institute:geo:0,0
END:VEVENT
BEGIN:VTIMEZONE
TZID:America/New_York
X-LIC-LOCATION:America/New_York
BEGIN:DAYLIGHT
DTSTART:20240310T030000
TZOFFSETFROM:-0500
TZOFFSETTO:-0400
TZNAME:EDT
END:DAYLIGHT
END:VTIMEZONE
END:VCALENDAR