BEGIN:VCALENDAR
VERSION:2.0
PRODID:-//wp-events-plugin.com//7.2.3.1//EN
TZID:America/New_York
X-WR-TIMEZONE:America/New_York
BEGIN:VEVENT
UID:367@breatheatlanta.us
DTSTART;TZID=America/New_York;VALUE=DATE:20240823
DTEND;TZID=America/New_York;VALUE=DATE:20240824
DTSTAMP:20240730T081325Z
URL:https://breatheatlanta.us/events/d-a-i-fest-2024/
SUMMARY:D.A.I. Fest 2024
DESCRIPTION:The Faith Community Virtual proudly presents D.A.I. Fest 2024\,
  a vibrant weekend event dedicated to fellowship\, learning\, and celebrat
 ion. Mark your calendars for a memorable experience as we come together fo
 r our sixth church anniversary.\n\nD.A.I. Fest Schedule:\n\nFriday:\n\n 	B
 ible Bonkers Karaoke Welcome Party with Myron the Mystic | 7:00 PM - 10:00
  PM ET\nKick off the festivities with a lively karaoke session featuring b
 iblical themes and fun\, hosted by Myron the Mystic.\n\nSaturday:\n\n 	Mor
 ning Inspiration &amp\; Yoga with Queen | 9:00 AM - 10:00 AM ET\nStart you
 r day with rejuvenating yoga and spiritual guidance.\n 	Digital Discourse\
 , Virtual Voices\, and the Power of Podcast with Myron the Mystic | 10:30 
 AM - 12:00 PM ET\nEngage in a thought-provoking discussion on digital medi
 a's role in faith and communication.\n 	Jamm Session &amp\; TFC Choir Rehe
 arsal | 1:00 PM - 3:00 PM ET\nJoin us for an interactive musical session a
 nd choir practice.\n 	Worship Service | 4:00 PM ET\nExperience a profound 
 worship service to connect and reflect.\n 	Fellowship Dinner | 7:00 PM ET\
 nEnjoy a communal meal and deepen connections with fellow attendees.\n\nSu
 nday:\n\n 	Let's Talk About Sex and Therapy 'N Theology Brunch | 12:30 PM 
 - 3:30 PM ET\nParticipate in an enlightening brunch exploring the intersec
 tion of faith\, therapy\, and sexuality.\n 	Holy Smokes Day Party | 5:00 P
 M - 8:00 PM ET\nConclude the festival with a lively and enjoyable day part
 y.\n\nRegistration Options:\n\n 	Basic Registration\nIncludes: Morning Ins
 piration &amp\; Yoga\, Digital Discourse\, Connection Group Meet-up\, Jamm
  Session\, Worship\n\n 	Price: $180 Early Bird | $225 after May 1st | $250
  after August 1st\n\n\n 	General Registration\nIncludes: All Basic Registr
 ation benefits plus Bible Bonkers Karaoke Welcome Party\, Fellowship Dinne
 r\, D.A.I. Fest T-Shirt (if registered by August 1st)\n\n 	Price: $250 Ear
 ly Bird | $295 after May 1st | $325 after August 5th\n\n\n 	Deluxe Registr
 ation\nIncludes: All General Registration benefits plus Let's Talk About S
 ex and Therapy 'N Theology Brunch\, Holy Smokes Day Party\n\n 	Price: $250
  Early Bird | $295 after May 1st | $325 after August 5th\n\n\n\nA La Carte
  Add-Ons: (sold separately)\n\n 	D.A.I. Fest T-Shirt | $25\n 	Bible Bonker
 s Karaoke Welcome Party | $75\n 	Fellowship Dinner | $75\n 	Let's Talk Abo
 ut Sex and Therapy 'N Theology Brunch | $75\n 	Holy Smokes Day Party | $75
 \n\nJoin us for a weekend filled with spiritual growth\, community engagem
 ent\, and plenty of fun. Register now to be part of D.A.I. Fest 2024!\n\nG
 ET TICKETS\n
ATTACH;FMTTYPE=image/jpeg:https://breatheatlanta.us/wp-content/uploads/202
 4/07/D.A.I.-Fest-2024.jpg
CATEGORIES:Mindfulness Events,Things To Do,Wellness Events
LOCATION:Neighborhood Church\, 1561 McLendon Avenue Northeast Atlanta\, Atl
 anta\, Georgia\, 30307\, GA \, United States
X-APPLE-STRUCTURED-LOCATION;VALUE=URI;X-ADDRESS=1561 McLendon Avenue Northe
 ast Atlanta\, Atlanta\, Georgia\, 30307\, GA \, United States;X-APPLE-RADI
 US=100;X-TITLE=Neighborhood Church:geo:0,0
END:VEVENT
BEGIN:VTIMEZONE
TZID:America/New_York
X-LIC-LOCATION:America/New_York
BEGIN:DAYLIGHT
DTSTART:20240310T030000
TZOFFSETFROM:-0500
TZOFFSETTO:-0400
TZNAME:EDT
END:DAYLIGHT
END:VTIMEZONE
END:VCALENDAR