BEGIN:VCALENDAR
VERSION:2.0
PRODID:-//wp-events-plugin.com//7.2.3.1//EN
TZID:America/New_York
X-WR-TIMEZONE:America/New_York
BEGIN:VEVENT
UID:439@breatheatlanta.us
DTSTART;TZID=America/New_York:20240908T100000
DTEND;TZID=America/New_York:20240908T113000
DTSTAMP:20240903T184438Z
URL:https://breatheatlanta.us/events/daisy-days-yoga-experience/
SUMMARY:Daisy Days Yoga Experience
DESCRIPTION:Picture yourself immersed in a serene yoga session at Arabia Mo
 untain\, where the natural beauty of the landscape creates a tranquil back
 drop. As you arrive\, the late summer sky casts a warm glow over the grani
 te expanse of Arabia Mountain\, highlighting its rugged majesty. The fresh
 \, crisp air is imbued with the earthy scent of the forest and the delicat
 e fragrance of blooming wildflowers.\n\nThe area is adorned with patches o
 f vibrant daisies\, their cheerful yellow petals adding a splash of color 
 to the scenic vista. The gentle rustling of leaves and the distant melody 
 of birdsong form a calming soundtrack\, setting the stage for relaxation a
 nd mindfulness.\n\nYou unroll your yoga mat on the smooth\, sun-warmed roc
 k\, feeling the grounding connection to the earth beneath you. Jess Pfeffe
 r leads the session with a grounding meditation\, guiding you to breathe d
 eeply and release any lingering tension. As you flow through a series of p
 oses\, your body stretches and strengthens\, each movement seamlessly blen
 ding with the natural environment.\n\nThe daisies sway gently in the breez
 e\, their simple beauty enhancing your sense of peace and gratitude. The p
 anoramic views from the summit of Arabia Mountain offer a breathtaking per
 spective\, reminding you of the vastness of the world and your place withi
 n it.\n\nAs the session concludes\, you settle into Savasana\, the final r
 esting pose\, feeling completely relaxed and at ease. The warmth of the su
 n\, the softness of the daisies\, and the grandeur of Arabia Mountain leav
 e you with a profound sense of tranquility and a deep connection to the na
 tural world.\n\nGET TICKETS\n
ATTACH;FMTTYPE=image/jpeg:https://breatheatlanta.us/wp-content/uploads/202
 4/09/Daisy-Days-Yoga-Experience.jpg
CATEGORIES:Mindfulness Events,Nature Events,Things To Do,Wellness
 Events,Yoga Events
LOCATION:Davidson-Arabia Mountain Nature Preserve\, 3787 Klondike Road Ston
 ecrest\, Atlanta\, Georgia\, 30038\, GA\, United States
X-APPLE-STRUCTURED-LOCATION;VALUE=URI;X-ADDRESS=3787 Klondike Road Stonecre
 st\, Atlanta\, Georgia\, 30038\, GA\, United States;X-APPLE-RADIUS=100;X-T
 ITLE=Davidson-Arabia Mountain Nature Preserve:geo:0,0
END:VEVENT
BEGIN:VTIMEZONE
TZID:America/New_York
X-LIC-LOCATION:America/New_York
BEGIN:DAYLIGHT
DTSTART:20240310T030000
TZOFFSETFROM:-0500
TZOFFSETTO:-0400
TZNAME:EDT
END:DAYLIGHT
END:VTIMEZONE
END:VCALENDAR