BEGIN:VCALENDAR
VERSION:2.0
PRODID:-//wp-events-plugin.com//7.2.3.1//EN
TZID:America/New_York
X-WR-TIMEZONE:America/New_York
BEGIN:VEVENT
UID:463@breatheatlanta.us
DTSTART;TZID=America/New_York:20240922T140000
DTEND;TZID=America/New_York:20240922T180000
DTSTAMP:20240915T082605Z
URL:https://breatheatlanta.us/events/day-retreat-experience/
SUMMARY:Day Retreat Experience
DESCRIPTION:Embark on a transformative journey at Paradise + Vibe’s inaug
 ural "Day Retreat\," an immersive mini-festival set in the heart of Atlant
 a. This one-of-a-kind event distills the essence of our renowned retreats 
 into a single\, unforgettable day of wellness\, inspiration\, and communit
 y connection. Don’t miss this unique opportunity to rejuvenate and conne
 ct with like-minded individuals!\n\nEvent Hosted by the Esteemed Medinah M
 onroe\n\nEvent Highlights:\n\n 	2:00 PM - Sound Bowl Session: Begin your r
 etreat with a soothing sound bowl experience\, where resonant tones will e
 nvelop you in a serene atmosphere\, promoting relaxation and inner peace.\
 n 	2:30 PM - Guided Meditation: Deepen your sense of calm and clarity with
  a guided meditation session\, designed to harmonize your mind and spirit.
 \n 	3:00 PM - Inspirational Workshop with Kemi Nekvapil: Gain valuable ins
 ights from Kemi Nekvapil\, acclaimed author of "The Gift of Asking" and "P
 ower." Her workshop will focus on themes of empowerment and resilience\, p
 roviding you with practical tools for personal growth.\n 	5:00 PM - Yoga S
 ession: Conclude your retreat with a restorative yoga session\, perfect fo
 r all skill levels. This practice will refresh and invigorate your body an
 d mind\, leaving you with a sense of balance and well-being.\n\nAdditional
  Details:\n\n 	Venue: Paradise + Vibe\, Atlanta\n 	What to Bring: Comforta
 ble clothing\, yoga mat\, and an open heart.\n 	Refreshments: Light snacks
  and beverages will be provided throughout the day.\n\nJoin us for a day o
 f deep relaxation\, meaningful connections\, and personal growth. This ret
 reat offers a perfect blend of rejuvenation and inspiration\, designed to 
 leave you feeling refresh\n\nGET TICKETS\n
ATTACH;FMTTYPE=image/jpeg:https://breatheatlanta.us/wp-content/uploads/202
 4/09/Day-Retreat-Experience.jpg
CATEGORIES:Things To Do,Wellness Events
LOCATION:Historic Fourth Ward Park\, 680 Dallas Street Northeast Atlanta\, 
 Atlanta\, Georgia\, 30308\, GA\, United States
X-APPLE-STRUCTURED-LOCATION;VALUE=URI;X-ADDRESS=680 Dallas Street Northeast
  Atlanta\, Atlanta\, Georgia\, 30308\, GA\, United States;X-APPLE-RADIUS=1
 00;X-TITLE=Historic Fourth Ward Park:geo:0,0
END:VEVENT
BEGIN:VTIMEZONE
TZID:America/New_York
X-LIC-LOCATION:America/New_York
BEGIN:DAYLIGHT
DTSTART:20240310T030000
TZOFFSETFROM:-0500
TZOFFSETTO:-0400
TZNAME:EDT
END:DAYLIGHT
END:VTIMEZONE
END:VCALENDAR