BEGIN:VCALENDAR
VERSION:2.0
PRODID:-//wp-events-plugin.com//7.2.3.1//EN
TZID:America/New_York
X-WR-TIMEZONE:America/New_York
BEGIN:VEVENT
UID:488@breatheatlanta.us
DTSTART;TZID=America/New_York:20241019T100000
DTEND;TZID=America/New_York:20241019T130000
DTSTAMP:20240925T103452Z
URL:https://breatheatlanta.us/events/daybreaker-atlanta-purple-tour-oct-19
 /
SUMMARY:DAYBREAKER ATLANTA // PURPLE TOUR // OCT 19
DESCRIPTION:\n\n\n\n\nIntroducing the Purple Tour\, a vibrant celebration s
 et to unite individuals this fall through the joy of dance\, regardless of
  political affiliation. This event embodies a true party atmosphere that p
 rioritizes unity\, community\, and happiness.\n\nThe Purple Tour represent
 s more than just a series of events\; it is a movement dedicated to revolu
 tionizing how people engage with civic duty. Recognizing that traditional 
 civic engagement often feels tedious—akin to visiting the DMV—this ini
 tiative seeks to transform the experience into a lively celebration of dem
 ocracy\, allowing everyone to express their voices and influence the leade
 rs of our country.\n\nThis election year marks a significant milestone as 
 Daybreaker embarks on its largest tour to date\, hosting 50 events across 
 15 states. The mission is clear: to energize and encourage the community t
 o get out and vote. With a thriving network of over 800\,000 members\, the
  Daybreaker community is poised to make a meaningful impact if everyone pa
 rticipates in the upcoming elections. The organization is committed to sim
 plifying the voting process for all by providing a user-friendly online to
 ol to register to vote\, verify registration status\, locate polling place
 s\, and more.\n\nIn a time when divisive politics often overshadow shared 
 goals\, the Purple Tour invites people from all walks of life—whether De
 mocrat\, Republican\, or somewhere in between—to come together and striv
 e for a world filled with peace\, prosperity\, opportunity\, and\, most im
 portantly\, joy.\n\nThis movement is about rekindling the joy of collectiv
 e action. Participants are encouraged to wear purple and join in the celeb
 ration as we “party to the polls” and make a collective impact on the 
 future. Let’s work together to elevate our voices and create a brighter 
 tomorrow!\n\n\n\n\n\n\nGET TICKETS\n
ATTACH;FMTTYPE=image/jpeg:https://breatheatlanta.us/wp-content/uploads/202
 4/09/DAYBREAKER-ATLANTA-PURPLE-TOUR-OCT-19.jpg
CATEGORIES:Staycations Events
LOCATION:Secret Venue\, Atlanta \, Atlanta \, Georgia\, 30168\, GA\, United
  States
X-APPLE-STRUCTURED-LOCATION;VALUE=URI;X-ADDRESS=Atlanta \, Atlanta \, Georg
 ia\, 30168\, GA\, United States;X-APPLE-RADIUS=100;X-TITLE=Secret Venue:ge
 o:0,0
END:VEVENT
BEGIN:VTIMEZONE
TZID:America/New_York
X-LIC-LOCATION:America/New_York
BEGIN:DAYLIGHT
DTSTART:20240310T030000
TZOFFSETFROM:-0500
TZOFFSETTO:-0400
TZNAME:EDT
END:DAYLIGHT
END:VTIMEZONE
END:VCALENDAR