BEGIN:VCALENDAR
VERSION:2.0
PRODID:-//wp-events-plugin.com//7.2.3.1//EN
TZID:America/New_York
X-WR-TIMEZONE:America/New_York
BEGIN:VEVENT
UID:522@breatheatlanta.us
DTSTART;TZID=America/New_York:20241019T140000
DTEND;TZID=America/New_York:20241019T210000
DTSTAMP:20240930T092441Z
URL:https://breatheatlanta.us/events/delilahs-2nd-annual-bbq-beer-fest-fea
 turing-celebrity-pitmaster-kevin-bludso/
SUMMARY:Delilah's 2nd Annual BBQ & BEER Fest featuring celebrity pitmaster 
 Kevin Bludso
DESCRIPTION:Delilah's 2nd Annual BBQ &amp\; Beer Fest is back\, bigger and 
 better than ever\, featuring celebrity pitmaster Kevin Bludso and an incre
 dible lineup of top BBQ talent. The two-day event kicks off on Friday\, Oc
 tober 18th\, with an exclusive VIP Pitmaster Dinner at 6:30 PM\, where gue
 sts will dine with Kevin Bludso\, Auntie Delilah\, and other pitmaster leg
 ends. In this intimate setting\, attendees will enjoy a multi-course meal\
 , with each course prepared by a renowned BBQ chef\, creating an unforgett
 able evening filled with amazing food\, great conversation\, and the chanc
 e to meet some of the stars of Netflix and the BBQ world.\n\nOn Saturday\,
  October 19th\, the festivities continue at Scofflaw Brewing Company (1738
  MacArthur Blvd\, Atlanta\, GA 30318) starting at 2 PM\, with the main eve
 nt—the BBQ &amp\; Beer Fest. This all-you-can-eat celebration will featu
 re some of the finest BBQ dishes crafted by celebrated pitmasters like Ras
 heed Philips (The Gentleman Smoker\, Season 1)\, Thyron Matthews (TNT BBQ\
 , Season 2 Winner)\, Shaticka Robinson (Season 3 Winner)\, Gerald "Papi" V
 innett Jr. (Season 3)\, and others\, including local favorite Butterknife 
 Shawty.\n\nWhile indulging in savory BBQ and sipping on refreshing beers\,
  fans can also enjoy the GA Bulldogs vs. TX Longhorn game streamed on the 
 Jumbotron Big Screen for the ultimate game-day experience.\n\nTickets for 
 both the VIP Pitmaster Dinner and BBQ &amp\; Beer Fest are sold separately
  or as part of a discounted combo package. Don’t miss out on this mouthw
 atering weekend filled with food\, fun\, and BBQ legends!\n\nGET TICKETS\n
ATTACH;FMTTYPE=image/jpeg:https://breatheatlanta.us/wp-content/uploads/202
 4/09/Delilahs-2nd-Annual-BBQ-BEER-Fest-featuring-celebrity-pitmaster-Kevin
 -Bludso.jpg
CATEGORIES:Food &amp; Drink Events
LOCATION:1738 MacArthur Blvd NW\, 1738 MacArthur Boulevard\, Northwest Atla
 nta\, Georgia\, 30318\, GA\, United States
X-APPLE-STRUCTURED-LOCATION;VALUE=URI;X-ADDRESS=1738 MacArthur Boulevard\, 
 Northwest Atlanta\, Georgia\, 30318\, GA\, United States;X-APPLE-RADIUS=10
 0;X-TITLE=1738 MacArthur Blvd NW:geo:0,0
END:VEVENT
BEGIN:VTIMEZONE
TZID:America/New_York
X-LIC-LOCATION:America/New_York
BEGIN:DAYLIGHT
DTSTART:20240310T030000
TZOFFSETFROM:-0500
TZOFFSETTO:-0400
TZNAME:EDT
END:DAYLIGHT
END:VTIMEZONE
END:VCALENDAR