BEGIN:VCALENDAR
VERSION:2.0
PRODID:-//wp-events-plugin.com//7.2.3.1//EN
TZID:America/New_York
X-WR-TIMEZONE:America/New_York
BEGIN:VEVENT
UID:580@breatheatlanta.us
DTSTART;TZID=America/New_York:20241102T150000
DTEND;TZID=America/New_York:20241102T200000
DTSTAMP:20241009T124918Z
URL:https://breatheatlanta.us/events/denim-diamonds-rep-yo-team-day-party/
SUMMARY:Denim & Diamonds Rep Yo Team Day Party!
DESCRIPTION:The Denim &amp\; Diamonds Representative Team celebrated a vibr
 ant day party filled with fun and excitement. This lively event brought to
 gether team members and their guests\, creating a festive atmosphere where
  everyone could enjoy the camaraderie and spirit of teamwork. The party fe
 atured a blend of denim and sparkling decor\, embodying the theme perfectl
 y. Attendees mingled\, shared stories\, and created lasting memories while
  enjoying delicious refreshments and engaging activities. The event not on
 ly highlighted the team's achievements but also fostered a sense of unity 
 and pride among the representatives\, reinforcing their commitment to succ
 ess in the Denim &amp\; Diamonds community.\n\nGET TICKETS\n
ATTACH;FMTTYPE=image/jpeg:https://breatheatlanta.us/wp-content/uploads/202
 4/10/Denim.jpeg
CATEGORIES:Wellness Events
LOCATION:Monticello ATL\, Monticello ATL  2000 Powers Ferry Road Marietta\,
  Marietta\, California\, 30067\, CA\, United States
X-APPLE-STRUCTURED-LOCATION;VALUE=URI;X-ADDRESS=Monticello ATL  2000 Powers
  Ferry Road Marietta\, Marietta\, California\, 30067\, CA\, United States;
 X-APPLE-RADIUS=100;X-TITLE=Monticello ATL:geo:0,0
END:VEVENT
BEGIN:VTIMEZONE
TZID:America/New_York
X-LIC-LOCATION:America/New_York
BEGIN:DAYLIGHT
DTSTART:20240310T030000
TZOFFSETFROM:-0500
TZOFFSETTO:-0400
TZNAME:EDT
END:DAYLIGHT
END:VTIMEZONE
END:VCALENDAR