BEGIN:VCALENDAR
VERSION:2.0
PRODID:-//wp-events-plugin.com//7.2.3.1//EN
TZID:America/New_York
X-WR-TIMEZONE:America/New_York
BEGIN:VEVENT
UID:617@breatheatlanta.us
DTSTART;TZID=America/New_York:20241109T120000
DTEND;TZID=America/New_York:20241109T170000
DTSTAMP:20241013T131153Z
URL:https://breatheatlanta.us/events/dermal-filler-training-atlanta-ga/
SUMMARY:Dermal Filler Training - Atlanta\, GA
DESCRIPTION:Empire Medical Training offers a comprehensive Dermal Filler Wo
 rkshop in Atlanta\, GA\, designed for healthcare professionals aiming to e
 nhance their skills in aesthetic care. This workshop\, approved by the Ame
 rican Medical Association (AMA) for up to 8.0 AMA PRA Category 1 Credits
 ™\, provides valuable insights into the latest dermal filler techniques\
 , allowing participants to elevate their decision-making skills in selecti
 ng FDA-approved dermal fillers based on G-Prime rating standards.\n\nThis 
 intensive training is ideal for physicians\, nurses\, dentists\, and other
  licensed healthcare practitioners. It also qualifies for 8 hours of conti
 nuing nursing education under ANCC accreditation.\n\nAt Empire Medical Tra
 ining\, the focus is on creating a successful and informed aesthetic pract
 ice. The workshop is meticulously structured to ensure participants leave 
 with the skills needed to provide improved patient care and achieve better
  outcomes in aesthetic procedures.\n\nProgram Agenda\n\n 	12:45 pm – 1:0
 0 pm: Registration\n 	1:00 pm – 2:00 pm: Introduction by Empire Medical 
 Training\, covering the history and objectives of the training. A review o
 f prerequisite materials and session objectives will also be included.\n 	
 2:00 pm – 5:00 pm: Hands-on training in small groups\, with live patient
 s. Participants will practice using FDA-approved hyaluronic acid (HA) derm
 al fillers to learn various injection techniques and approaches for facial
  augmentation.\n\nThe hands-on session will focus on the following treatme
 nt areas:\n\n 	Nasolabial Folds\n 	Marionette Lines\n 	Pre-Jowl Sulcus\n 	
 Lips (Vermillion Border with PDO Threads)\n\nParticipants will have the op
 portunity to develop their proficiency under physician supervision\, ensur
 ing they gain practical experience in safely administering dermal fillers 
 for each specific facial zone.\n\nSafety and COVID-19 Precautions\n\nEmpir
 e Medical Training requires that all attendees\, patients\, and volunteers
  strictly adhere to CDC guidelines and the organization's safety protocols
  during the workshop. Participants are required to follow all COVID-19 pre
 cautions\, including agreeing to the policies before taking part in the ha
 nds-on training.\n\nThis workshop is an excellent opportunity for healthca
 re professionals to advance their aesthetic practices\, refine their skill
 s\, and enhance patient care through hands-on experience with the latest d
 ermal filler techniques.\n\nGET TICKETS\n
ATTACH;FMTTYPE=image/jpeg:https://breatheatlanta.us/wp-content/uploads/202
 4/10/Dermal-Filler.jpeg
CATEGORIES:Wellness Events
LOCATION:Hyatt Centric Buckhead Atlanta\, 3301 Lenox Parkway \, Atlanta\, G
 eorgia\, 30326\, GA\, United States
X-APPLE-STRUCTURED-LOCATION;VALUE=URI;X-ADDRESS=3301 Lenox Parkway \, Atlan
 ta\, Georgia\, 30326\, GA\, United States;X-APPLE-RADIUS=100;X-TITLE=Hyatt
  Centric Buckhead Atlanta:geo:0,0
END:VEVENT
BEGIN:VTIMEZONE
TZID:America/New_York
X-LIC-LOCATION:America/New_York
BEGIN:STANDARD
DTSTART:20241103T010000
TZOFFSETFROM:-0400
TZOFFSETTO:-0500
TZNAME:EST
END:STANDARD
END:VTIMEZONE
END:VCALENDAR