BEGIN:VCALENDAR
VERSION:2.0
PRODID:-//wp-events-plugin.com//7.2.3.1//EN
TZID:America/New_York
X-WR-TIMEZONE:America/New_York
BEGIN:VEVENT
UID:715@breatheatlanta.us
DTSTART;TZID=America/New_York;VALUE=DATE:20241102
DTEND;TZID=America/New_York;VALUE=DATE:20241103
DTSTAMP:20241029T050023Z
URL:https://breatheatlanta.us/events/dia-de-los-muertos-festival/
SUMMARY:Día de los Muertos Festival
DESCRIPTION:Join in a vibrant celebration of Día de los Muertos at this fa
 mily-friendly festival that honors Mexican-American culture and commemorat
 es loved ones who have passed. This lively event is filled with traditiona
 l music\, dance\, and colorful displays\, creating a welcoming space for a
 ll ages to experience the beauty of this cherished holiday.\n\nThe festiva
 l offers an array of activities designed to immerse attendees in Mexican h
 eritage:\n\n 	Live Mariachi Performances bring the sounds of Mexico to lif
 e\, setting a spirited tone for the festivities.\n 	Traditional Dancers an
 d stilt walkers dazzle with their intricate costumes and graceful movement
 s\, capturing the essence of Día de los Muertos.\n 	Ofrendas (altars) are
  displayed throughout the festival\, allowing visitors to pay respects and
  honor the memories of loved ones in a time-honored tradition.\n 	Interact
 ive Photo Booths and a children’s area complete with face painting\, sto
 rytelling\, and games with prizes add to the festival’s inclusive\, fest
 ive atmosphere.\n 	Food Trucks serve a taste of authentic Mexican and Lati
 n flavors\, giving guests the chance to enjoy traditional dishes.\n\nA uni
 que musical experience awaits as Atlanta Symphony Orchestra violinist Juan
  R. Ramírez Hernández joins Mariachi Pepe Lopez for two special performa
 nces at 1 p.m. and 2 p.m.\, blending symphonic mastery with mariachi tradi
 tion in a one-of-a-kind concert.\n\nAdditional highlights include:\n\n 	A 
 horse exhibition by Rancho Los Gallos de Oro\, showcasing beautiful horses
  and skilled horsemanship.\n 	Bilingual storyteller Camille shares the ori
 gins and legends of Día de los Muertos in both Spanish and English\, brin
 ging its cultural significance to life for all attendees.\n 	Dynamic dance
  performances by Grupo Folklorico Itzamatul and Latin Just Dance\, whose r
 outines reflect the history and joy of Mexican dance traditions.\n\nAs the
  day draws to a close\, the Atlanta Symphony Orchestra will present a spec
 ial Ghostbusters in Concert event\, with a live orchestral performance of 
 the movie’s score during a screening of the classic film\, adding a fun 
 and festive touch to an unforgettable day.\n\nThe Día de los Muertos Fest
 ival offers a day of cultural immersion\, family bonding\, and heartfelt r
 emembrance\, celebrating life\, heritage\, and community in a welcoming se
 tting. Whether through music\, dance\, storytelling\, or food\, there is s
 omething for everyone to enjoy in this joyous tribute to loved ones.\n\nGE
 T TICKETS\n
ATTACH;FMTTYPE=image/jpeg:https://breatheatlanta.us/wp-content/uploads/202
 4/10/Dia-de-los-Muertos-Festival.jpg
CATEGORIES:Arts &amp; Performances,Things To Do
LOCATION:Atlanta Symphony Hall & Box Office\, 1280 Peachtree Street NE \, A
 tlanta\, Georgia\, 30309\,  GA\, United States
X-APPLE-STRUCTURED-LOCATION;VALUE=URI;X-ADDRESS=1280 Peachtree Street NE \,
  Atlanta\, Georgia\, 30309\,  GA\, United States;X-APPLE-RADIUS=100;X-TITL
 E=Atlanta Symphony Hall & Box Office:geo:0,0
END:VEVENT
BEGIN:VTIMEZONE
TZID:America/New_York
X-LIC-LOCATION:America/New_York
BEGIN:DAYLIGHT
DTSTART:20240310T030000
TZOFFSETFROM:-0500
TZOFFSETTO:-0400
TZNAME:EDT
END:DAYLIGHT
END:VTIMEZONE
END:VCALENDAR