BEGIN:VCALENDAR
VERSION:2.0
PRODID:-//wp-events-plugin.com//7.2.3.1//EN
TZID:America/New_York
X-WR-TIMEZONE:America/New_York
BEGIN:VEVENT
UID:711@breatheatlanta.us
DTSTART;TZID=America/New_York:20241117T150000
DTEND;TZID=America/New_York:20241117T180000
DTSTAMP:20241024T182148Z
URL:https://breatheatlanta.us/events/digital-detox-n-declutter-autumn-3-pa
 rt-series/
SUMMARY:Digital Detox n' Declutter: Autumn 3-Part Series
DESCRIPTION:Kick off the fall season with a transformative experience at th
 e Digital Detox n' Declutter 3-part series. This hands-on and collaborativ
 e program is designed to help participants detox their technology while de
 cluttering their mental space. Through a series of engaging activities\, a
 ttendees will learn to release accumulated energy—both digital and inter
 nal—creating a gentle yet effective cleanse that sets the stage for a fr
 esh start.\n\nThis series emphasizes the importance of a tech cleanse\, fo
 stering new connections\, and enjoying nourishing\, intentional food made 
 with love. Each Sunday gathering promises a vibrant atmosphere\, perfect f
 or reflection and rejuvenation. Participants are encouraged to invite a fr
 iend who might benefit from this refreshing experience.\n\nWhat to Expect:
 \n\n 	Icebreaker Games: Warm up and connect with fellow participants.\n 	G
 uided Tech Detox Steps: Learn effective strategies to clear digital clutte
 r.\n 	Intermittent Breathwork and Meditation Check-Ins: Recenter throughou
 t the series.\n 	Turn-n-Talk Session: Share memories and insights in a sup
 portive environment.\n 	Group Reboot: Focus on future goals and aspiration
 s.\n 	Delicious Food and Drinks: Enjoy plant-based meals\, Tunde's Thai Te
 a\, and Kwa-Mix trail mix\, along with some post-event karaoke for added f
 un.\n\nLogistics:\n\n 	Participants should arrive open-minded and focused\
 , bringing fully charged devices (phone\, laptop\, tablet\, camera\, etc.)
 .\n 	Comfort items such as lawn chairs\, blankets\, and pillows are encour
 aged\, as the event takes place outdoors under a canopy. Limited seating w
 ill be available\, but in case of bad weather\, activities will shift indo
 ors.\n 	Punctuality is key to maximizing the experience\, as activities bu
 ild on each other.\n\nPreparation Questions: To make the most of this seri
 es\, participants are encouraged to reflect on the following:\n\n 	What sp
 ecific digital items do I want to clear or delete?\n 	How do I connect my 
 technology habits with my mental habits?\n 	What organizational strategies
  can I apply to my tech?\n 	What are my personal goals for this 3-part ser
 ies?\n\nParticipants will enjoy a plant-based menu featuring vegetable sou
 p\, green salad\, French bread\, and a rice dish. Discounted meal tickets 
 are available for advance purchase.\n\nEmbrace this opportunity to cleanse
  both your technology and mind this fall!\n\nGET TICKETS\n
ATTACH;FMTTYPE=image/jpeg:https://breatheatlanta.us/wp-content/uploads/202
 4/10/Digital-Detox-n-Declutter-Autumn-3-Part-Series.jpg
CATEGORIES:Things To Do
LOCATION:542 Ventura Dr\, 542 Ventura Drive Forest Park\, Atlanta\, Georgia
 \, 30297\, GA\, United States
X-APPLE-STRUCTURED-LOCATION;VALUE=URI;X-ADDRESS=542 Ventura Drive Forest Pa
 rk\, Atlanta\, Georgia\, 30297\, GA\, United States;X-APPLE-RADIUS=100;X-T
 ITLE=542 Ventura Dr:geo:0,0
END:VEVENT
BEGIN:VTIMEZONE
TZID:America/New_York
X-LIC-LOCATION:America/New_York
BEGIN:STANDARD
DTSTART:20241103T010000
TZOFFSETFROM:-0400
TZOFFSETTO:-0500
TZNAME:EST
END:STANDARD
END:VTIMEZONE
END:VCALENDAR