BEGIN:VCALENDAR
VERSION:2.0
PRODID:-//wp-events-plugin.com//7.2.3.1//EN
TZID:America/New_York
X-WR-TIMEZONE:America/New_York
BEGIN:VEVENT
UID:728@breatheatlanta.us
DTSTART;TZID=America/New_York:20241122T180000
DTEND;TZID=America/New_York:20241122T203000
DTSTAMP:20241027T071725Z
URL:https://breatheatlanta.us/events/dining-in-the-dark-a-unique-blindfold
 ed-dining-experience-at-commerce-club-atlanta/
SUMMARY:Dining in the Dark: A Unique Blindfolded Dining Experience at Comme
 rce Club Atlanta
DESCRIPTION:Step into a one-of-a-kind dining adventure at the elegant Comme
 rce Club Atlanta\, where the simple act of putting on a blindfold will tra
 nsport you into a world where flavors and aromas take center stage. Design
 ed to heighten your senses\, Dining in the Dark invites guests to discover
  an exclusive three-course menu that unfolds with each bite\, leaving ever
 y taste a tantalizing surprise. With options for meat lovers\, seafood ent
 husiasts\, and vegans\, each dish is carefully crafted to captivate throug
 h taste\, texture\, and fragrance alone\, allowing guests to rediscover th
 e art of savoring food without visual cues.\n\nEnjoy this shared experienc
 e with a partner\, friends\, or family as you navigate a blindfolded journ
 ey of culinary exploration. Savor the subtle notes of each ingredient as t
 aste and smell become your guides\, and relish the thrill of a sensory adv
 enture that pushes dining to new and uncharted heights.\n\nKey Highlights:
 \n\n 	⭐ A New Dining Perspective: Share a sensory dining adventure unlik
 e any other\, perfect for couples\, friends\, or family.\n 	🍲 Enhanced 
 Sensory Experience: Without sight\, taste and smell intensify\, transformi
 ng every bite into a unique moment.\n 	👩‍🍳 Three-Course Surprise: 
 An exclusive menu revealed dish by dish\, including an appetizer\, main co
 urse\, and dessert\, tailored for a truly unforgettable evening.\n\nMenu O
 ptions:\n\n 	🔴 Red Menu: A selection for meat lovers.\n 	🔵 Blue Menu
 : Seafood delicacies for ocean flavors.\n 	🟢 Green Menu: Vegan options 
 for a plant-based delight.\n\nLooking for a gift that stands out? Treat so
 meone to this remarkable experience with a Dining in the Dark gift card\, 
 creating memories that are as unique as the meal itself. Whether it’s fo
 r a special celebration or a night to indulge curiosity\, Dining in the Da
 rk at Commerce Club Atlanta invites you to embrace the unknown and redisco
 ver the joy of taste and aroma in an enchanting setting.\n\nGET TICKETS\n
ATTACH;FMTTYPE=image/jpeg:https://breatheatlanta.us/wp-content/uploads/202
 4/10/Screenshot-2024-10-27-124034.png
CATEGORIES:Food &amp; Drink Events,Things To Do
LOCATION:191 Peachtree Tower Motor Court\, 192 Peachtree Center Avenue Nort
 heast\, Atlanta\, Georgia\, 30303\,  GA\, United States
X-APPLE-STRUCTURED-LOCATION;VALUE=URI;X-ADDRESS=192 Peachtree Center Avenue
  Northeast\, Atlanta\, Georgia\, 30303\,  GA\, United States;X-APPLE-RADIU
 S=100;X-TITLE=191 Peachtree Tower Motor Court:geo:0,0
END:VEVENT
BEGIN:VTIMEZONE
TZID:America/New_York
X-LIC-LOCATION:America/New_York
BEGIN:STANDARD
DTSTART:20241103T010000
TZOFFSETFROM:-0400
TZOFFSETTO:-0500
TZNAME:EST
END:STANDARD
END:VTIMEZONE
END:VCALENDAR