BEGIN:VCALENDAR
VERSION:2.0
PRODID:-//wp-events-plugin.com//7.2.3.1//EN
TZID:America/New_York
X-WR-TIMEZONE:America/New_York
BEGIN:VEVENT
UID:512@breatheatlanta.us
DTSTART;TZID=America/New_York:20241026T100000
DTEND;TZID=America/New_York:20241026T130000
DTSTAMP:20240928T073202Z
URL:https://breatheatlanta.us/events/dinosaur-trick-or-treat/
SUMMARY:Dinosaur Trick-or-Treat
DESCRIPTION:This Halloween season\, families are invited to enjoy a delight
 ful event filled with fun and treats at the annual Dinosaur Trick-or-Treat
 . This festive gathering promises no tricks\, just a variety of treats and
  activities that will excite children and adults alike.\n\nThe event featu
 res themed tables brimming with an assortment of goodies\, crafts\, and en
 gaging activities\, all designed to create a memorable experience for atte
 ndees. Young guests are encouraged to come dressed in their favorite costu
 mes\, adding to the playful atmosphere and ensuring a day filled with laug
 hter and joy.\n\nAs families embark on their candy-collecting adventures\,
  it's important to remember to bring along their own bags or buckets. This
  will ensure they have plenty of room to gather all the delicious treats o
 ffered throughout the event.\n\nDinosaur Trick-or-Treat provides a fantast
 ic opportunity for families to celebrate Halloween in a safe and enjoyable
  environment\, making it a must-attend event for those looking to create l
 asting memories during this spooky season. With themed decorations and a f
 estive spirit\, this event is sure to be a highlight of the Halloween fest
 ivities!\n\nGET TICKETS\n
ATTACH;FMTTYPE=image/jpeg:https://breatheatlanta.us/wp-content/uploads/202
 4/09/Dinosaur-Trick-or-Treat.png
CATEGORIES:Things To Do
LOCATION:Fernbank Museum of Natural History\, 767 Clifton Rd NE Atlanta\, A
 tlanta\, Georgia\, 30307\, GA\, United States
X-APPLE-STRUCTURED-LOCATION;VALUE=URI;X-ADDRESS=767 Clifton Rd NE Atlanta\,
  Atlanta\, Georgia\, 30307\, GA\, United States;X-APPLE-RADIUS=100;X-TITLE
 =Fernbank Museum of Natural History:geo:0,0
END:VEVENT
BEGIN:VTIMEZONE
TZID:America/New_York
X-LIC-LOCATION:America/New_York
BEGIN:DAYLIGHT
DTSTART:20240310T030000
TZOFFSETFROM:-0500
TZOFFSETTO:-0400
TZNAME:EDT
END:DAYLIGHT
END:VTIMEZONE
END:VCALENDAR