BEGIN:VCALENDAR
VERSION:2.0
PRODID:-//wp-events-plugin.com//7.2.3.1//EN
TZID:America/New_York
X-WR-TIMEZONE:America/New_York
BEGIN:VEVENT
UID:717@breatheatlanta.us
DTSTART;TZID=America/New_York;VALUE=DATE:20241103
DTEND;TZID=America/New_York;VALUE=DATE:20241104
DTSTAMP:20241025T100035Z
URL:https://breatheatlanta.us/events/disney-jr-live-on-tour-lets-play/
SUMMARY:Disney Jr. Live On Tour: Let's Play
DESCRIPTION:Disney Jr. Live On Tour: Let’s Play brings a magical adventur
 e to life as Mickey and his friends prepare for an unforgettable playdate 
 at the Clubhouse. Presented by Walmart\, this interactive show invites you
 ng fans and their families to join Mickey\, Minnie\, Goofy\, and a cast of
  favorite Disney Junior characters for a journey full of surprises\, music
 \, and laughter.\n\nThe show begins with Mickey excitedly getting ready fo
 r the ultimate playdate with beloved pals like the Puppy Dog Pals\, advent
 urous kittens Ginny and Bitsy from SuperKitties\, and even Ariel from Disn
 ey Jr.’s Ariel. But just as the fun is about to start\, unexpected weath
 er events start causing mayhem! Thunder\, wind\, and other strange weather
  seem to interrupt every activity\, puzzling the group.\n\nTo solve the my
 stery\, Team Spidey from Marvel’s Spidey and His Amazing Friends swings 
 into action\, determined to track down the source of the unusual disturban
 ces and save the day. Together\, this dynamic lineup of Disney Junior star
 s will explore friendship\, teamwork\, and resilience\, all while singing 
 and dancing to catchy\, family-friendly songs that will have the entire au
 dience moving along.\n\nWith its vibrant costumes\, fun-filled storyline\,
  and interactive elements\, Disney Jr. Live On Tour: Let’s Play promises
  to transport young audiences straight into the heart of their favorite Di
 sney adventures\, creating a memorable\, playdate experience that captures
  the magic of Disney Junior.\n\nGET TICKETS\n
ATTACH;FMTTYPE=image/jpeg:https://breatheatlanta.us/wp-content/uploads/202
 4/10/Disney-Jr.-Live-On-Tour-Lets-Play.jpg
CATEGORIES:Things To Do
LOCATION:Fox Theatre\, 660 Peachtree Street NE\, Atlanta\, Georgia\, 30308\
 ,  GA\, United States
X-APPLE-STRUCTURED-LOCATION;VALUE=URI;X-ADDRESS=660 Peachtree Street NE\, A
 tlanta\, Georgia\, 30308\,  GA\, United States;X-APPLE-RADIUS=100;X-TITLE=
 Fox Theatre:geo:0,0
END:VEVENT
BEGIN:VTIMEZONE
TZID:America/New_York
X-LIC-LOCATION:America/New_York
BEGIN:DAYLIGHT
DTSTART:20240310T030000
TZOFFSETFROM:-0500
TZOFFSETTO:-0400
TZNAME:EDT
END:DAYLIGHT
BEGIN:STANDARD
DTSTART:20241103T010000
TZOFFSETFROM:-0400
TZOFFSETTO:-0500
TZNAME:EST
END:STANDARD
END:VTIMEZONE
END:VCALENDAR