BEGIN:VCALENDAR
VERSION:2.0
PRODID:-//wp-events-plugin.com//7.2.3.1//EN
TZID:America/New_York
X-WR-TIMEZONE:America/New_York
BEGIN:VEVENT
UID:723@breatheatlanta.us
DTSTART;TZID=America/New_York;VALUE=DATE:20241130
DTEND;TZID=America/New_York;VALUE=DATE:20241201
DTSTAMP:20241025T112412Z
URL:https://breatheatlanta.us/events/disneys-frozen-in-concert/
SUMMARY:Disney’s Frozen in Concert
DESCRIPTION:The Atlanta Symphony Orchestra is set to enchant audiences with
  a live performance of Disney’s Frozen in Concert\, featuring the belove
 d animated film by Walt Disney Animation Studios. This special event will 
 showcase the GRAMMY®-nominated score composed by Christophe Beck\, with t
 he orchestra playing the music in real-time as the film is screened.\n\nUn
 der the skilled direction of conductor Susie Seiter\, attendees will be im
 mersed in the magical world of Arendelle\, experiencing the heartwarming s
 tory of sisterly love and adventure like never before. The concert promise
 s to bring the film's iconic songs and orchestral pieces to life\, enhanci
 ng the emotional resonance of the beloved characters and their journey.\n\
 nAs the film unfolds on the big screen\, the audience will be transported 
 into a winter wonderland\, experiencing the stunning visuals and captivati
 ng narrative complemented by the orchestra’s live performance. This uniq
 ue concert offers a wonderful opportunity for families and fans of all age
 s to relive the enchanting tale of Frozen\, making it a truly memorable ex
 perience.\n\nWhether one is a longtime admirer of the film or new to its c
 harm\, Disney’s Frozen in Concert at the Atlanta Symphony Orchestra is p
 oised to be a magical evening filled with music\, nostalgia\, and the joy 
 of storytelling.\n\nGET TICKETS\n
ATTACH;FMTTYPE=image/jpeg:https://breatheatlanta.us/wp-content/uploads/202
 4/10/Disneys-Frozen-in-Concert.jpg
CATEGORIES:Arts &amp; Performances,Things To Do
LOCATION:Atlanta Symphony Hall\, 1280 Peachtree Street NE\, Atlanta\, Georg
 ia\, 30309\,  GA\, United States
X-APPLE-STRUCTURED-LOCATION;VALUE=URI;X-ADDRESS=1280 Peachtree Street NE\, 
 Atlanta\, Georgia\, 30309\,  GA\, United States;X-APPLE-RADIUS=100;X-TITLE
 =Atlanta Symphony Hall:geo:0,0
END:VEVENT
BEGIN:VTIMEZONE
TZID:America/New_York
X-LIC-LOCATION:America/New_York
BEGIN:STANDARD
DTSTART:20241103T010000
TZOFFSETFROM:-0400
TZOFFSETTO:-0500
TZNAME:EST
END:STANDARD
END:VTIMEZONE
END:VCALENDAR