BEGIN:VCALENDAR
VERSION:2.0
PRODID:-//wp-events-plugin.com//7.2.3.1//EN
TZID:America/New_York
X-WR-TIMEZONE:America/New_York
BEGIN:VEVENT
UID:608@breatheatlanta.us
DTSTART;TZID=America/New_York:20241109T123000
DTEND;TZID=America/New_York:20241109T153000
DTSTAMP:20241013T093844Z
URL:https://breatheatlanta.us/events/diy-juice-cleanse-workshop-2/
SUMMARY:DIY Juice Cleanse Workshop
DESCRIPTION:The DIY Juice Cleanse Workshop offers an engaging opportunity t
 o learn the essentials of juice cleansing through the innovative My Health
  Bae Method\, developed by renowned wellness expert Jalissa Johnson\, who 
 holds a Harvard MS certification. This hands-on workshop is designed to gu
 ide participants step-by-step through the fundamentals of juice cleansing\
 , focusing on how to detoxify and rejuvenate the body using fresh\, nutrie
 nt-rich juices.\n\nParticipants will witness a live bulk-juicing demonstra
 tion\, showcasing how to prepare delicious and health-boosting beverages e
 fficiently. Attendees will also have the chance to sample exclusive My Hea
 lth Bae (MHB) signature recipes\, providing a firsthand taste of Jalissa J
 ohnson’s expertly crafted juice blends.\n\nIn addition to the demonstrat
 ions\, the workshop will include a live wellness Q&amp\;A session\, allowi
 ng attendees to gain valuable insights into holistic health and nutrition 
 directly from Jalissa Johnson herself. As a special bonus\, participants w
 ill enjoy exclusive discounts on wellness products and receive complimenta
 ry wellness consultations to further support their personal health journey
 .\n\nThis interactive workshop is perfect for anyone looking to improve th
 eir health through natural\, sustainable practices and gain expert knowled
 ge in the art of juice cleansing.\n\nGET TICKETS\n
ATTACH;FMTTYPE=image/jpeg:https://breatheatlanta.us/wp-content/uploads/202
 4/10/DIY-Juice-Cleanse-Workshop.jpg
CATEGORIES:Wellness Events
LOCATION:Ponce City Market\, 675 Ponce De Leon Avenue\, Northeast Atlanta\,
  Georgia\, 30308\, GA\, United States
X-APPLE-STRUCTURED-LOCATION;VALUE=URI;X-ADDRESS=675 Ponce De Leon Avenue\, 
 Northeast Atlanta\, Georgia\, 30308\, GA\, United States;X-APPLE-RADIUS=10
 0;X-TITLE=Ponce City Market:geo:0,0
END:VEVENT
BEGIN:VTIMEZONE
TZID:America/New_York
X-LIC-LOCATION:America/New_York
BEGIN:STANDARD
DTSTART:20241103T010000
TZOFFSETFROM:-0400
TZOFFSETTO:-0500
TZNAME:EST
END:STANDARD
END:VTIMEZONE
END:VCALENDAR