BEGIN:VCALENDAR
VERSION:2.0
PRODID:-//wp-events-plugin.com//7.2.3.1//EN
TZID:America/New_York
X-WR-TIMEZONE:America/New_York
BEGIN:VEVENT
UID:458@breatheatlanta.us
DTSTART;TZID=America/New_York:20240921T123000
DTEND;TZID=America/New_York:20240921T153000
DTSTAMP:20240915T072832Z
URL:https://breatheatlanta.us/events/diy-juice-cleanse-workshop/
SUMMARY:DIY Juice Cleanse Workshop
DESCRIPTION:Curious about the health benefits of juicing and how it can tra
 nsform your well-being? Join us for the DIY Juice Cleanse Workshop\, a han
 ds-on experience designed to help you kickstart a healthier lifestyle with
  confidence and ease. Led by Jalissa Johnson\, a wellness expert and Harva
 rd MS Certified professional\, this workshop will introduce you to the ess
 entials of juice cleansing using the My Health Bae Method—a personalized
  approach to detoxing and nourishing your body.\n\nIn this immersive sessi
 on\, you’ll dive into the ABC’s of juice cleansing\, covering everythi
 ng from selecting the right ingredients to understanding how juicing can b
 oost your overall health. You'll also get a live demonstration of bulk jui
 cing techniques\, so you can prepare your own fresh\, nutrient-packed juic
 es at home with ease.\n\nThroughout the workshop\, you’ll have the oppor
 tunity to sample MHB’s signature juice recipes\, giving you a taste of d
 elicious and wholesome blends. Bring your questions\, as Jalissa will also
  host a live Q&amp\;A session\, offering expert advice and personalized ti
 ps to enhance your juicing experience.\n\nAs an added bonus\, attendees wi
 ll receive exclusive discounts on wellness products and services\, as well
  as complimentary wellness consultations to further support their health j
 ourney. Whether you're new to juicing or looking to deepen your knowledge\
 , this workshop provides all the tools and inspiration you need to cleanse
  your body\, boost your energy\, and cultivate lasting health.\n\nDon’t 
 miss this opportunity to refresh your mind\, body\, and spirit with the po
 wer of juicing!\n\nGET TICKETS\n
ATTACH;FMTTYPE=image/jpeg:https://breatheatlanta.us/wp-content/uploads/202
 4/09/DIY-Juice-Cleanse-Workshop.jpg
CATEGORIES:Food &amp; Drink Events,Things To Do,Travel Events
LOCATION:Ponce City Market\, 675 Ponce De Leon Avenue Northeast Atlanta\, A
 tlanta\, Georgia\, 30308\, GA \, United States
X-APPLE-STRUCTURED-LOCATION;VALUE=URI;X-ADDRESS=675 Ponce De Leon Avenue No
 rtheast Atlanta\, Atlanta\, Georgia\, 30308\, GA \, United States;X-APPLE-
 RADIUS=100;X-TITLE=Ponce City Market:geo:0,0
END:VEVENT
BEGIN:VTIMEZONE
TZID:America/New_York
X-LIC-LOCATION:America/New_York
BEGIN:DAYLIGHT
DTSTART:20240310T030000
TZOFFSETFROM:-0500
TZOFFSETTO:-0400
TZNAME:EDT
END:DAYLIGHT
END:VTIMEZONE
END:VCALENDAR