BEGIN:VCALENDAR
VERSION:2.0
PRODID:-//wp-events-plugin.com//7.2.3.1//EN
TZID:America/New_York
X-WR-TIMEZONE:America/New_York
BEGIN:VEVENT
UID:562@breatheatlanta.us
DTSTART;TZID=America/New_York:20241026T100000
DTEND;TZID=America/New_York:20241026T130000
DTSTAMP:20241007T104526Z
URL:https://breatheatlanta.us/events/doggy-con-2024/
SUMMARY:Doggy Con 2024
DESCRIPTION:Welcome to Doggy Con 2024\, a vibrant celebration dedicated to 
 our beloved canine companions! Taking place at Woodruff Park\, this event 
 promises a day filled with joy\, excitement\, and activities that highligh
 t the special bond between dogs and their humans.\n\nThis year\, Doggy Con
  coincides with Dragon Con\, one of the world’s largest pop culture\, sc
 i-fi\, and fantasy conventions. Each Labor Day weekend\, thousands flock t
 o downtown Atlanta\, and now\, as the cosplay spirit continues and Hallowe
 en approaches\, Woodruff Park invites metro Atlantans to dive into the whi
 msical world of pup culture.\n\nEvent Highlights:\n\n 	Customizable Embroi
 dered Bandanas: Let your furry friends show off their unique style with cu
 stom embroidered bandanas. Choose designs that reflect their personality a
 nd make them the talk of the park!\n 	Photo Booth: Capture the fun with ou
 r themed photo booth\, where you and your pup can snap memorable pictures.
  Strike a pose and create keepsakes that showcase your day at Doggy Con.\n
  	King of Pops Pup-sicles: Treat your pooch (and yourself!) to delicious p
 up-sicles from King of Pops. These refreshing snacks are sure to keep tail
 s wagging and smiles shining.\n 	Prizes and Giveaways: Get ready for some 
 friendly competition! The coveted title of Best in Show will win two ticke
 ts to Dragon Con 2025\, so be sure to bring your A-game in both creativity
  and flair.\n 	Doggy Vendors: Explore a variety of vendors offering an arr
 ay of dog treats\, toys\, and accessories. From gourmet snacks to stylish 
 collars\, you'll find everything to pamper your pooch.\n\nDoggy Con 2024 i
 s the perfect opportunity to meet fellow dog lovers\, showcase your stunni
 ng Halloween costumes\, and enjoy a day of canine camaraderie. Don’t mis
 s this chance to celebrate all things dog-related with your furry friends.
  Mark your calendars\, gather your pups\, and get ready for a paw-some day
  at Doggy Con 2024!\n\nGET TICKETS\n
ATTACH;FMTTYPE=image/jpeg:https://breatheatlanta.us/wp-content/uploads/202
 4/10/Doggy-Con-2024.jpg
CATEGORIES:Things To Do
LOCATION:Woodruff Park\, 91 Peachtree Street Atlanta\, Atlanta\, Georgia\, 
 30303\, GA\, United States
X-APPLE-STRUCTURED-LOCATION;VALUE=URI;X-ADDRESS=91 Peachtree Street Atlanta
 \, Atlanta\, Georgia\, 30303\, GA\, United States;X-APPLE-RADIUS=100;X-TIT
 LE=Woodruff Park:geo:0,0
END:VEVENT
BEGIN:VTIMEZONE
TZID:America/New_York
X-LIC-LOCATION:America/New_York
BEGIN:DAYLIGHT
DTSTART:20240310T030000
TZOFFSETFROM:-0500
TZOFFSETTO:-0400
TZNAME:EDT
END:DAYLIGHT
END:VTIMEZONE
END:VCALENDAR