BEGIN:VCALENDAR
VERSION:2.0
PRODID:-//wp-events-plugin.com//7.2.3.1//EN
TZID:America/New_York
X-WR-TIMEZONE:America/New_York
BEGIN:VEVENT
UID:369@breatheatlanta.us
DTSTART;TZID=America/New_York:20240817T090000
DTEND;TZID=America/New_York:20240821T113000
DTSTAMP:20240730T083913Z
URL:https://breatheatlanta.us/events/dope-dads-run-aug-2024/
SUMMARY:Dope Dads Run - Aug 2024
DESCRIPTION:Get ready for a heartwarming and energetic event at the "Dope D
 ads Run" this August 2024! This family-friendly walk/run event is designed
  for participants of all ages and aims to promote a healthy lifestyle whil
 e fostering quality time with loved ones.\n\nEvent Highlights:\n\n 	Inclus
 ive Family Fun: The Dope Dads Run welcomes everyone to join in the fun\, w
 hether you're walking\, running\, or cheering from the sidelines. It's a p
 erfect opportunity for families to come together\, support each other\, an
 d enjoy a day of fitness and camaraderie.\n 	Community Building: Dope Dads
  is more than just an event\; it’s a movement dedicated to encouraging h
 ealthy choices and creating a supportive space for fathers to connect and 
 engage. This run embodies our commitment to being actively involved in our
  families' lives and supporting one another.\n 	Healthy Lifestyle Promotio
 n: By participating in this event\, you’ll be contributing to a larger m
 ission of advocating for a balanced and active lifestyle\, setting a posit
 ive example for the community and future generations.\n 	Snacks and Refres
 hments: Throughout the event\, enjoy a variety of snacks and refreshments 
 provided to keep everyone energized and hydrated.\n\nJoin us in making a s
 tatement about the importance of family and health. Together\, let’s sho
 w the world the positive impact we have as fathers\, families\, and commun
 ity supporters. Don’t miss this chance to be part of something meaningfu
 l and fun. Register now and mark your calendar for the Dope Dads Run!\n\nG
 ET TICKETS\n
ATTACH;FMTTYPE=image/jpeg:https://breatheatlanta.us/wp-content/uploads/202
 4/07/Dope-Dads-Run-Aug-2024.jpg
CATEGORIES:Mindfulness Events,Things To Do,Wellness Events
LOCATION:Ponce City Market\, 675 Ponce De Leon Avenue Northeast Atlanta\, A
 tlanta\, Georgia\, 30308\, GA \, United States
X-APPLE-STRUCTURED-LOCATION;VALUE=URI;X-ADDRESS=675 Ponce De Leon Avenue No
 rtheast Atlanta\, Atlanta\, Georgia\, 30308\, GA \, United States;X-APPLE-
 RADIUS=100;X-TITLE=Ponce City Market:geo:0,0
END:VEVENT
BEGIN:VTIMEZONE
TZID:America/New_York
X-LIC-LOCATION:America/New_York
BEGIN:DAYLIGHT
DTSTART:20240310T030000
TZOFFSETFROM:-0500
TZOFFSETTO:-0400
TZNAME:EDT
END:DAYLIGHT
END:VTIMEZONE
END:VCALENDAR