BEGIN:VCALENDAR
VERSION:2.0
PRODID:-//wp-events-plugin.com//7.2.3.1//EN
TZID:America/New_York
X-WR-TIMEZONE:America/New_York
BEGIN:VEVENT
UID:416@breatheatlanta.us
DTSTART;TZID=America/New_York;VALUE=DATE:20240829
DTEND;TZID=America/New_York;VALUE=DATE:20240903
DTSTAMP:20240802T210824Z
URL:https://breatheatlanta.us/events/dragon-con/
SUMMARY:Dragon Con
DESCRIPTION:Dragon Con stands as the premier event in the universe for fans
  of science fiction\, fantasy\, gaming\, comics\, literature\, art\, music
 \, and film. As the largest and most diverse multimedia convention of its 
 kind\, Dragon Con has earned its reputation as a phenomenon in the world o
 f pop culture.\n\nSpanning across five exhilarating days\, this convention
  attracts enthusiasts from around the globe\, making it one of the most we
 ll-attended and anticipated events in the country. Whether you're a devote
 d fan or a curious newcomer\, Dragon Con promises an unparalleled experien
 ce filled with excitement\, creativity\, and fan-fueled fun.\n\nSet in the
  heart of Atlanta over Labor Day Weekend\, Dragon Con offers a vibrant cel
 ebration of everything you love about pop culture. With a vast array of pa
 nels\, workshops\, cosplay contests\, and exclusive merchandise\, it's the
  perfect destination for those looking to immerse themselves in their favo
 rite genres and meet fellow fans.\n\nDon't miss your chance to be part of 
 this iconic event—Dragon Con is where the magic of fandom comes alive.\n
 \nGET TICKETS\n
ATTACH;FMTTYPE=image/jpeg:https://breatheatlanta.us/wp-content/uploads/202
 4/08/Screenshot-2024-08-03-030223.png
CATEGORIES:Things To Do,Wellness Events
LOCATION:Dragon Con\, 5044 Clark Howell Hwy\, Atlanta\, Georgia\, 30349\, G
 A\, United States
X-APPLE-STRUCTURED-LOCATION;VALUE=URI;X-ADDRESS=5044 Clark Howell Hwy\, Atl
 anta\, Georgia\, 30349\, GA\, United States;X-APPLE-RADIUS=100;X-TITLE=Dra
 gon Con:geo:0,0
END:VEVENT
BEGIN:VTIMEZONE
TZID:America/New_York
X-LIC-LOCATION:America/New_York
BEGIN:DAYLIGHT
DTSTART:20240310T030000
TZOFFSETFROM:-0500
TZOFFSETTO:-0400
TZNAME:EDT
END:DAYLIGHT
END:VTIMEZONE
END:VCALENDAR