BEGIN:VCALENDAR
VERSION:2.0
PRODID:-//wp-events-plugin.com//7.2.3.1//EN
TZID:America/New_York
X-WR-TIMEZONE:America/New_York
BEGIN:VEVENT
UID:399@breatheatlanta.us
DTSTART;TZID=America/New_York:20240810T170000
DTEND;TZID=America/New_York:20240810T210000
DTSTAMP:20240802T064939Z
URL:https://breatheatlanta.us/events/duck-fest-summer-jeep-jam-at-ashley-p
 ark/
SUMMARY:Duck Fest Summer Jeep Jam at Ashley Park
DESCRIPTION:Join the excitement at our 2nd Annual Duck Fest Summer Jeep Jam
 ! This event is a celebration for all Jeep enthusiasts and a fun day for t
 he whole community. Whether you’re a Jeep owner or just a fan\, there’
 s something for everyone.\n\nEvent Highlights:\n\n 	Summer Jam Concert: En
 joy live music that will keep the energy high all day.\n 	Specialty Vendor
 s: Browse through unique items and services from local vendors.\n 	Food Tr
 ucks: Savor delicious eats from a variety of food trucks.\n 	Best in Show 
 Prizes: Enter your Jeep for a chance to win exciting prizes.\n 	Duck Shari
 ng: Embrace the Jeep culture of duck sharing with fellow enthusiasts.\n 	L
 ots of Ducks: Collect and trade ducks with other Jeep lovers.\n\nTicket In
 formation:\n\n 	Spectators: Free and open to the public.\n 	Jeep Entry: Ti
 ckets are required per vehicle\, not per person. Spaces are limited and av
 ailable on a first-come\, first-served basis. Only Jeeps are allowed insid
 e the parking lot.\n 	Donation: A donation is required to secure your tick
 et\, and all proceeds will benefit a local charity of our choosing.\n\nImp
 ortant Notes:\n\n 	No Refunds: As this event supports a local charity\, do
 nations are non-refundable even if the event is canceled due to weather.\n
  	Stay Updated: Follow our event page on Facebook for the latest updates a
 nd announcements.\n\nCome join us for a day of fun\, music\, and community
  at the Duck Fest Summer Jeep Jam. Bring your Jeep\, your love for ducks\,
  and your enthusiasm for a great cause. See you there!\n\nGET TICKETS\n
ATTACH;FMTTYPE=image/jpeg:https://breatheatlanta.us/wp-content/uploads/202
 4/08/Duck-Fest-Summer-Jeep-Jam-at-Ashley-Park.jpg
CATEGORIES:Arts &amp; Performances,Nature Events,Things To Do
LOCATION:Ashley Park\, 354 Newnan Crossing Bypass Newnan\, Atlanta\, GA\, 3
 0263\, GA\, United States
X-APPLE-STRUCTURED-LOCATION;VALUE=URI;X-ADDRESS=354 Newnan Crossing Bypass 
 Newnan\, Atlanta\, GA\, 30263\, GA\, United States;X-APPLE-RADIUS=100;X-TI
 TLE=Ashley Park:geo:0,0
END:VEVENT
BEGIN:VTIMEZONE
TZID:America/New_York
X-LIC-LOCATION:America/New_York
BEGIN:DAYLIGHT
DTSTART:20240310T030000
TZOFFSETFROM:-0500
TZOFFSETTO:-0400
TZNAME:EDT
END:DAYLIGHT
END:VTIMEZONE
END:VCALENDAR