BEGIN:VCALENDAR
VERSION:2.0
PRODID:-//wp-events-plugin.com//7.2.3.1//EN
TZID:America/New_York
X-WR-TIMEZONE:America/New_York
BEGIN:VEVENT
UID:163@breatheatlanta.us
DTSTART;TZID=America/New_York:20240427T080000
DTEND;TZID=America/New_York:20240427T100000
DTSTAMP:20240328T061603Z
URL:https://breatheatlanta.us/events/early-bird-workout/
SUMMARY:Early bird workout
DESCRIPTION:Experience the thrill of fitness and community every Saturday a
 t KENWOOD Park in Fayetteville! Immerse yourself in two hours of exhilarat
 ing workouts designed to ignite your energy and elevate your spirits. Rega
 rdless of age or fitness level\, everyone is invited to join in the fun an
 d sweat it out together!\n\nEvent Information:\n\nEvent Name: Early bird w
 orkout\n\nHost: All Trades Inc.\n\nDate and Time: Saturday\, April 27\, 8:
 00 AM - 10:00 AM EDT.\n\nLocation: Kenwood Park\, Georgia 279 Fayetteville
 \, GA 30214\, United States\n\nAbout this Event: Kickstart your weekend wi
 th the Early Bird Workout!  every Saturday morning at Kenwood Park in Fay
 etteville for two hours of fun fitness. This event welcomes participants o
 f all ages and fitness levels\, providing an inclusive environment for eve
 ryone to enjoy.\n\nTicket Price: $5.00 (General Admission)\n\nTicket Deliv
 ery: eTicket ($0.00)\n\nTotal: $5.00\n\nGET TICKETS\n\nWorkout Session Det
 ail: The Early Bird Workout offers a dynamic two-hour fitness session aime
 d at promoting health and happiness. Whether you're a fitness enthusiast o
 r just starting your wellness journey\, this event is designed to help you
  take your first step towards a healthier lifestyle.\n\nEssential for Part
 icipants:\n\nComfortable workout attire\n\nWater bottle\n\nPositive attitu
 de\n\nParking Option: Parking is available at Kenwood Park.\n\nRefund Poli
 cy: Contact the organizer to request a refund. Please note that Eventbrite
 's fee is nonrefundable.\n\nprioritize your well-being and kickstart your 
 weekend on a positive note! Register now and let's embark on this journey 
 to great health and happiness together.
ATTACH;FMTTYPE=image/jpeg:https://breatheatlanta.us/wp-content/uploads/202
 4/03/LKKLKLKLKLKLKLKLK.jpg
CATEGORIES:Wellness Events
LOCATION:Kenwood Park\,   Georgia 279 \, Fayetteville\, \, United States\, 
 30214 \, GA \, United States
X-APPLE-STRUCTURED-LOCATION;VALUE=URI;X-ADDRESS=  Georgia 279 \, Fayettevil
 le\, \, United States\, 30214 \, GA \, United States;X-APPLE-RADIUS=100;X-
 TITLE=Kenwood Park:geo:0,0
END:VEVENT
BEGIN:VTIMEZONE
TZID:America/New_York
X-LIC-LOCATION:America/New_York
BEGIN:DAYLIGHT
DTSTART:20240310T030000
TZOFFSETFROM:-0500
TZOFFSETTO:-0400
TZNAME:EDT
END:DAYLIGHT
END:VTIMEZONE
END:VCALENDAR