BEGIN:VCALENDAR
VERSION:2.0
PRODID:-//wp-events-plugin.com//7.2.3.1//EN
TZID:America/New_York
X-WR-TIMEZONE:America/New_York
BEGIN:VEVENT
UID:288@breatheatlanta.us
DTSTART;TZID=America/New_York:20240629T130000
DTEND;TZID=America/New_York:20240630T020000
DTSTAMP:20240525T130504Z
URL:https://breatheatlanta.us/events/el-bembe-latin-dance-weekender/
SUMMARY:El Bembé Latin Dance Weekender
DESCRIPTION:Get ready to immerse yourself in a weekend of Latin dance magic
  with El Bembé Latin Dance Weekender! Train with top-tier artists in thre
 e exhilarating workshops\, then dance the night away at our epic social ev
 ent until 2am. This new 5th Saturday event is set to become a highlight of
  Atlanta's dance scene.\nEvent Highlights\nWelcome to Atlanta's New Dance 
 Extravaganza: Join us on June 29th at the Academy Ballroom for a celebrati
 on of Latin dance. Whether you're a seasoned dancer or just starting out\,
  this event offers world-class training opportunities and a night of passi
 on\, music\, and movement.\n\nExclusive Workshops: The event kicks off at 
 1pm with three dynamic workshops led by globally celebrated artists. Each 
 one-hour session is designed to elevate your dance skills\, provide unique
  insights\, and prepare you for a night of unforgettable dancing.\n\nElect
 rifying Performances &amp\; Social Dancing: As the day turns to night\, th
 e dance floor comes alive. From 9pm to 10pm\, join Eric Amador's class to 
 get in the groove. Be mesmerized by live performances from our world-renow
 ned guest artists. Then\, let loose and dance the night away to the electr
 ifying beats of salsa and bachata as DJ Koki Lizonde and DJ Julio Sabroso\
 , flown in from Orlando\, FL\, and Raleigh\, NC\, set the perfect soundtra
 ck for the evening.\n\nDon't miss this incredible opportunity to train wit
 h the best\, enjoy breathtaking performances\, and dance until the early h
 ours. Mark your calendar for June 29th and experience the vibrant energy o
 f El Bembé Latin Dance Weekender. Secure your tickets now and get ready f
 or a weekend filled with rhythm\, fun\, and unforgettable memories!\n\nGET
  TICKETS\n
ATTACH;FMTTYPE=image/jpeg:https://breatheatlanta.us/wp-content/uploads/202
 4/05/El-Bembe-Latin-Dance-Weekender.jpg
LOCATION:Academy Ballroom Atlanta\, 800 Miami Circle Northeast #140 Atlanta
 \, Atlanta\, Georgia\, 30324\, United States
X-APPLE-STRUCTURED-LOCATION;VALUE=URI;X-ADDRESS=800 Miami Circle Northeast 
 #140 Atlanta\, Atlanta\, Georgia\, 30324\, United States;X-APPLE-RADIUS=10
 0;X-TITLE=Academy Ballroom Atlanta:geo:0,0
END:VEVENT
BEGIN:VTIMEZONE
TZID:America/New_York
X-LIC-LOCATION:America/New_York
BEGIN:DAYLIGHT
DTSTART:20240310T030000
TZOFFSETFROM:-0500
TZOFFSETTO:-0400
TZNAME:EDT
END:DAYLIGHT
END:VTIMEZONE
END:VCALENDAR