BEGIN:VCALENDAR
VERSION:2.0
PRODID:-//wp-events-plugin.com//7.2.3.1//EN
TZID:America/New_York
X-WR-TIMEZONE:America/New_York
BEGIN:VEVENT
UID:709@breatheatlanta.us
DTSTART;TZID=America/New_York:20241123T190000
DTEND;TZID=America/New_York:20241123T210000
DTSTAMP:20241024T181128Z
URL:https://breatheatlanta.us/events/elevate-your-health-elevate-your-life
 -atlanta/
SUMMARY:Elevate Your Health Elevate Your Life | Atlanta
DESCRIPTION:Join Nathalie Nicole\, LaQuail Johnson\, and DaQuondra Cuthbert
 son on Saturday\, November 23rd\, 2024\, at 7 PM for an unforgettable even
 ing designed to enhance your well-being and empower your lifestyle. Elevat
 e Your Health\, Elevate Your Life is an engaging fitness event that promis
 es to inspire and motivate attendees.\n\nParticipants can look forward to 
 a variety of activities\, including product tastings and networking opport
 unities\, where you can connect with like-minded individuals who share a p
 assion for health and wellness. Attendees will also learn effective strate
 gies for generating income while pursuing their health goals\, providing v
 aluable insights into combining personal well-being with financial growth.
 \n\nThis event will take place in the vibrant heart of Atlanta\, offering 
 a welcoming atmosphere for individuals interested in digital marketing and
  holistic health.\n\nDon’t miss out on this incredible opportunity to el
 evate your health and life. Mark your calendars and prepare to be inspired
 !\n\nGET TICKETS\n
ATTACH;FMTTYPE=image/jpeg:https://breatheatlanta.us/wp-content/uploads/202
 4/10/Elevate-Your-Health-Elevate-Your-Life.jpg
CATEGORIES:Wellness Events
LOCATION:TBA\, TBA Atlanta\, Atlanta\, Georgia\, 30303\, GA\, United States
X-APPLE-STRUCTURED-LOCATION;VALUE=URI;X-ADDRESS=TBA Atlanta\, Atlanta\, Geo
 rgia\, 30303\, GA\, United States;X-APPLE-RADIUS=100;X-TITLE=TBA:geo:0,0
END:VEVENT
BEGIN:VTIMEZONE
TZID:America/New_York
X-LIC-LOCATION:America/New_York
BEGIN:STANDARD
DTSTART:20241103T010000
TZOFFSETFROM:-0400
TZOFFSETTO:-0500
TZNAME:EST
END:STANDARD
END:VTIMEZONE
END:VCALENDAR