BEGIN:VCALENDAR
VERSION:2.0
PRODID:-//wp-events-plugin.com//7.2.3.1//EN
TZID:America/New_York
X-WR-TIMEZONE:America/New_York
BEGIN:VEVENT
UID:784@breatheatlanta.us
DTSTART;TZID=America/New_York:20250215T080000
DTEND;TZID=America/New_York:20250215T170000
DTSTAMP:20250212T123835Z
URL:https://breatheatlanta.us/events/elevate-your-wellness-business/
SUMMARY:ELEVATE YOUR WELLNESS BUSINESS!
DESCRIPTION:Elevate Your Wellness Business – A Transformative 2-Day Event
 !\nHealthcare professionals and wellness practitioners are invited to Elev
 ate Your Wellness Business\, an exclusive in-person training event designe
 d to expand expertise\, increase revenue\, and enhance patient care. This 
 immersive two-day experience will be held at 5835 Campbellton Road Southwe
 st\, Ste 103\, South Fulton\, GA\, USA\, offering invaluable hands-on lear
 ning led by expert instructors.\nParticipants will gain comprehensive know
 ledge and practical training on integrating two high-demand\, revenue-gene
 rating procedures into their practice:\n✅ Hormone Replacement Therapy wi
 th Pellets – Learn how to implement this cutting-edge therapy to support
  patients with hormonal balance\, vitality\, and overall wellness.\n✅ Se
 xual Rejuvenation with PRP – Master the use of Platelet-Rich Plasma (PRP
 ) for sexual health and rejuvenation\, a rapidly growing field in wellness
  and regenerative medicine.\n\nWhy Attend?\n🔹 Expert-Led Training – L
 earn directly from industry specialists with years of experience.🔹 Hand
 s-On Implementation – Gain practical skills to seamlessly integrate thes
 e procedures into your practice.🔹 Immediate Revenue Growth – Unlock h
 igh-income opportunities with proven\, in-demand services.🔹 Comprehensi
 ve Business Guidance – Get everything needed to start implementing and m
 onetizing these treatments right away.\nThis event is an unparalleled oppo
 rtunity for wellness professionals looking to differentiate their practice
 \, expand their services\, and drive financial growth in a thriving indust
 ry.\n📍 Limited spots available! Secure your place now and take the next
  step in elevating your wellness business!\n\n\nGET TICKETS\n
ATTACH;FMTTYPE=image/jpeg:https://breatheatlanta.us/wp-content/uploads/202
 5/02/ELEVATE-YOUR-WELLNESS-BUSINESS.jpg
CATEGORIES:Wellness Events
LOCATION:5835 Campbellton Rd SW ste 103\, 5835 Campbellton Road Southwest\,
  ste 103 Atlanta\, 30331\, GA\, United States
X-APPLE-STRUCTURED-LOCATION;VALUE=URI;X-ADDRESS=5835 Campbellton Road South
 west\, ste 103 Atlanta\, 30331\, GA\, United States;X-APPLE-RADIUS=100;X-T
 ITLE=5835 Campbellton Rd SW ste 103:geo:0,0
END:VEVENT
BEGIN:VTIMEZONE
TZID:America/New_York
X-LIC-LOCATION:America/New_York
BEGIN:STANDARD
DTSTART:20241103T010000
TZOFFSETFROM:-0400
TZOFFSETTO:-0500
TZNAME:EST
END:STANDARD
END:VTIMEZONE
END:VCALENDAR