BEGIN:VCALENDAR
VERSION:2.0
PRODID:-//wp-events-plugin.com//7.2.3.1//EN
TZID:America/New_York
X-WR-TIMEZONE:America/New_York
BEGIN:VEVENT
UID:245@breatheatlanta.us
DTSTART;TZID=America/New_York:20240504T090000
DTEND;TZID=America/New_York:20240525T130000
DTSTAMP:20240416T145404Z
URL:https://breatheatlanta.us/events/emotional-health-and-wellness-ministr
 y/
SUMMARY:Emotional Health and Wellness Ministry Training Series (Stockbridge
 \, GA)
DESCRIPTION:\nEmpowering Faith Communities: Project RejuveNation Tackles Me
 ntal Health\nThe Faith-Based Mental Health Initiative\, Inc. is teaming up
  with Light of the World Christian Tabernacle International and the Moreho
 use School of Medicine to launch Project RejuveNation.\nProject RejuveNati
 on: A Mission of Empowerment\nThis initiative aims to empower Christian fa
 ith communities to address mental health within their congregations. Proje
 ct RejuveNation equips clergy\, lay members\, and community members to bec
 ome champions of emotional well-being.\nSpiritually-Integrated Solutions:\
 nProject RejuveNation recognizes the unique role faith plays in mental hea
 lth. They advocate for spiritually-integrated interventions\, combining sp
 iritual support with professional mental healthcare.\nProject RejuveNation
  Training Series:\nA core component of Project RejuveNation is a 12-hour t
 raining series. This program utilizes an original manual to equip particip
 ants with the knowledge and skills to:\n\n\n 	Promote emotional well-being
 \n 	Prevent suicide\n 	Prevent substance misuse\n\nBuilding Emotional Well
 ness Teams:\nThe training empowers lay members to become "Emotional Wellne
 ss Partners." These individuals will offer vital emotional and spiritual s
 upport to those facing mental health and substance abuse challenges.\nInte
 ractive Learning for Lasting Impact:\nProject RejuveNation goes beyond tra
 ditional lectures. Interactive exercises and video discussions led by reno
 wned experts ensure a dynamic and engaging learning experience.\nEquipping
  Leaders for Crisis Intervention:\nThe training equips clergy and lay memb
 ers to recognize signs that require professional mental health interventio
 n. Participants will learn how to utilize the 9-8-8 Crisis and Suicide Hot
 line effectively.\nJoin the Movement:\nProject RejuveNation's training tak
 es place at Light of the World Christian Tabernacle International. This pr
 ogram offers an invaluable opportunity for Christian faith communities to 
 address mental health within their congregations.\nBecome a Champion of Em
 otional Well-Being:\nSign up today and join the fight against mental healt
 h stigma. Project RejuveNation empowers faith communities to provide cruci
 al support and promote emotional wellness for all.\nFor more information\,
  contact Minister Gwen Traylor at Gwen.Traylor@FaithBasedMentalHealthIniti
 ative.org.\n\n\n\nBOOK SPOTS\n
ATTACH;FMTTYPE=image/jpeg:https://breatheatlanta.us/wp-content/uploads/202
 4/04/https___cdn.evbuc_.com_images_633331989_181558055888_1_original.jpeg
CATEGORIES:Wellness Events
LOCATION:5883 GA-155 N\, 5883 Georgia 155 North\, Stockbridge\, Georgia\, 3
 0281\, United States
X-APPLE-STRUCTURED-LOCATION;VALUE=URI;X-ADDRESS=5883 Georgia 155 North\, St
 ockbridge\, Georgia\, 30281\, United States;X-APPLE-RADIUS=100;X-TITLE=588
 3 GA-155 N:geo:0,0
END:VEVENT
BEGIN:VTIMEZONE
TZID:America/New_York
X-LIC-LOCATION:America/New_York
BEGIN:DAYLIGHT
DTSTART:20240310T030000
TZOFFSETFROM:-0500
TZOFFSETTO:-0400
TZNAME:EDT
END:DAYLIGHT
END:VTIMEZONE
END:VCALENDAR